{"text_format":"1","workbook":"xlsx","n_sheets":9,"sheets":["説明","会員","総会書類作成","総会文面","委員会書類","任意作成","班名","年号","役職"],"not_rendered":{"charts":0,"images":2,"macros":1,"external_links":0,"defined_names":33,"comments":1,"pivot_tables":0},"unopened":[],"bounds":{"document_bytes":16777216,"sheet_cells":100000,"rows_first":2000,"rows_last":500,"rows_between":2000,"halvings":0,"cell_chars":16384,"cell_head_chars":4096},"cells_cut":0,"cells_raw":0,"read":"whole","date_system":"1900"}

{"sheet":"説明","index":0,"n_rows":39,"n_cols":16,"rows_kept":39,"cut":false,"hidden":false,"merged":[]}
["このEXCEL.xlsmは、名簿を管理するための簡易なアプリです。"]
[]
[null,"会員の追加変更は、「会員」シートで行ってください。"]
[null,null,"新規加入者は、黒いボタン「最終行表示」を押して、次に、黒いボタン「行追加」を押してください。"]
[null,null,null,"途中の行で、右クリックで追加も可能です。"]
[null,null,"変更は、班、姓、名、住所などで抽出してメンテして、そのあと、上書き保存（Ctrl + S )を、忘れないように行ってください。"]
[null,null,"退会は、黒いボタン「退会登録」をクリック、赤い色の項目をメンテください。"]
[null,null,"役職登録は、黒いボタン「役職登録」をクリック、赤い色の項目をメンテください。"]
[null,null,null,"上段に赤い全クリアボタンがあります。年度替わりのときなどに利用ください。"]
[null,null,"管理表順登録は、任意に並び変えたいときに順位を登録します。"]
[]
[null,"基礎情報は、班名、年号、役職です。各シートをメンテください。"]
[]
[null,"市区名、字名の変更などは、一斉に行えます。"]
[null,"西暦年と月を指定して、年齢を表示します。"]
[null,"書類の形式として３タイプあります。"]
[]
[null,"＜１＞","総会方式用～全世帯を対象に、世帯員名を印刷した書類の作成用です。ここでは、総会書類作成としてありますが、"]
[null,null,"「総会文面」シートの内容を、カメラで、「総会書類作成」シートへ表示しているだけです。"]
[null,null,"書類の内容、シート名は任意に変えてください。"]
[null,null,"但し、シートに列を追加削除するとエラーが生じます。"]
[]
[null,"＜２＞","委員会方式用～役職の中から出席を要請する役職を指定して書類を作成します。ここでは委員会書類としてありますが、"]
[null,null,"印刷する書類の文面は任意ですので、目的の会合に当てはめて、読み替えて、使ってください。"]
[null,null,"対象者の住所氏名を、左上に表示しますので、窓付き封筒が使えます。"]
[null,null,"但し、シートに列を追加削除するとエラーが生じます。"]
[]
[null,"＜３＞","任意作成用～対象者を任意に選択し、共通の文書を作成します。"]
[null,null,"対象者の住所氏名を、左上に表示しますので、窓付き封筒が使えます。"]
[null,null,"但し、シートに列を追加削除するとエラーが生じます。"]
[]
[null,"便利な使い方"]
[null,null,"会員シートのデータは、任意の範囲を、別のシートにコピー(Ctrl + C )＆ペースト(Ctrl + V )できます。"]
[null,null,"班、年齢、役職、それらの範囲、で抽出表示したものを、そのまま、別のシートにコピー(Ctrl + C )＆ペースト(Ctrl + V )できます。"]
[]
[null,"注意点"]
[null,null,"列の追加、項目名の変更は行わないでください。",null,null,null,null,null,null,"→エラーとなった場合の対処方法はこちらを参考にしてください。",null,null,null,null,null,"https://youtu.be/LKB11VYQ1lU"]
[null,null,null,"列を追加削除すると、総会書類作成の項目の位置がおかしくなります。"]
[null,"以上"]

{"sheet":"会員","index":1,"n_rows":37,"n_cols":46,"rows_kept":37,"cut":false,"hidden":false,"merged":[[0,36,1,36],[0,35,1,35],[0,25,1,25],[0,28,1,28],[0,30,1,30],[0,26,1,26],[0,27,1,27]]}
[null,null,null,null,null,null,null,null,null,null,null,null,null,null,null,null,null,"年齢の算出基準（西暦年）↓","（月末時点）↓",null,null,null,null,null,null,"世帯名簿の災害弱者に○をつけた人↓","施設入所中　障害内容　訃報に関する情報ほか","携帯電話番号ほか","要支援者として市区に登録した人↓",null,"世帯名簿が一人の人↓",null,null,null,null,"役員用の追加情報　メールアドレスなど","「委員会」となっていますが、別名に読み替えて利用ください↓","字名入力↓",null,null,null,null,"市区名入力↓","〒初期値↓"]
["↓全列にわたり項目名は変更しないでください。",null,null,null,null,null,"使い方説明↑",null,null,null,null,null,null,null,null,null,null,2023,3,null,null,null,null,null,null,null,null,null,null,null,null,"↓","↓","↓","↓",null,null,"山田村",null,null,null,null,"鈴木市佐藤区","〒987-6543"]
["会員SORT","班名SORT","班","班内G","退会理由","姓","名","よみがな","世帯主Y","世帯員No","住所1","住所2","住所3","電話","性別","生年和暦","生月","生年西暦","年齢","入会年和暦","入会月","入会年西暦","退会年和暦","退会月","退会年西暦","災害弱者","備考1","備考2","要支援登録者","要支援者番号","独居者","会費管理表順","役職１","役職2","役職3","追記","委員会要出","補助情報_連結住所","補助情報_連結氏名","委員会判定1","委員会判定2","委員会判定3","市区名","郵便番号","補助役職連記","任意抽出Y"]
[{"$f":"ROW()-ROW(会員テーブル[[#Headers],[会員SORT]])","v":1},{"$f":"IFERROR(VLOOKUP(C4,班名テーブル[],2,FALSE),\"\")","v":1},"[1]",null,null,"井永","省三郎","いなが","Y",1,107,null,null,"999-685-0891","男","昭和24",1,{"$f":"IFERROR(VLOOKUP(P4,年号テーブル[],2,FALSE),\"\")","v":1949},{"$f":"IFERROR(IF((nenreim-Q4)<0,(nenreiy-R4)-1,(nenreiy-R4)),\"\")","v":74},null,null,{"$f":"IFERROR(VLOOKUP(T4,nengou2,2,FALSE),\"\")","v":""},null,null,{"$f":"IFERROR(VLOOKUP(W4,nengou2,2,FALSE),\"\")","v":""},null,null,null,null,null,null,null,null,null,null,null,{"$f":"IF((AN4+AO4+AP4)>0,\"出\",\"\")","v":""},{"$f":"IF(会員テーブル[[#This Row],[住所1]]=\"\",会員テーブル[[#This Row],[住所3]],IF(会員テーブル[[#This Row],[住所2]]=\"\",字名&会員テーブル[[#This Row],[住所1]]&会員テーブル[[#This Row],[住所3]],字名&会員テーブル[[#This Row],[住所1]]&\"-\"&会員テーブル[[#This Row],[住所2]]&会員テーブル[[#This Row],[住所3]]))","v":"山田村107"},{"$f":"会員テーブル[[#This Row],[姓]]&\" \"&会員テーブル[[#This Row],[名]]","v":"井永 省三郎"},{"$f":"IFERROR(IF((VLOOKUP(会員テーブル[[#This Row],[役職１]],役職テーブル[],3,FALSE)=\"出\"),1,0),0)","v":0},{"$f":"IFERROR(IF((VLOOKUP(会員テーブル[[#This Row],[役職2]],役職テーブル[],3,FALSE)=\"出\"),1,0),0)","v":0},{"$f":"IFERROR(IF((VLOOKUP(会員テーブル[[#This Row],[役職3]],役職テーブル[],3,FALSE)=\"出\"),1,0),0)","v":0},{"$f":"市区名","v":"鈴木市佐藤区"},{"$f":"郵便初期値","v":"〒987-6543"},{"$f":"会員テーブル[[#This Row],[役職１]]&\"  \"&会員テーブル[[#This Row],[役職2]]&\"  \"&会員テーブル[[#This Row],[役職3]]","v":"    "}]
[{"$f":"ROW()-ROW(会員テーブル[[#Headers],[会員SORT]])","v":2},{"$f":"IFERROR(VLOOKUP(C5,班名テーブル[],2,FALSE),\"\")","v":1},"[1]",null,null,"井永","明枝","いなが",null,2,107,null,null,"999-685-0891","女","昭和28",2,{"$f":"IFERROR(VLOOKUP(P5,年号テーブル[],2,FALSE),\"\")","v":1953},70,null,null,"",null,null,{"$f":"IFERROR(VLOOKUP(W5,nengou2,2,FALSE),\"\")","v":""},null,null,null,null,null,null,12,"自治会副会長(書記)",null,null,null,"出",{"$f":"IF(会員テーブル[[#This Row],[住所1]]=\"\",会員テーブル[[#This Row],[住所3]],IF(会員テーブル[[#This Row],[住所2]]=\"\",字名&会員テーブル[[#This Row],[住所1]]&会員テーブル[[#This Row],[住所3]],字名&会員テーブル[[#This Row],[住所1]]&\"-\"&会員テーブル[[#This Row],[住所2]]&会員テーブル[[#This Row],[住所3]]))","v":"山田村107"},{"$f":"会員テーブル[[#This Row],[姓]]&\" \"&会員テーブル[[#This Row],[名]]","v":"井永 明枝"},{"$f":"IFERROR(IF((VLOOKUP(会員テーブル[[#This Row],[役職１]],役職テーブル[],3,FALSE)=\"出\"),1,0),0)","v":1},{"$f":"IFERROR(IF((VLOOKUP(会員テーブル[[#This Row],[役職2]],役職テーブル[],3,FALSE)=\"出\"),1,0),0)","v":0},{"$f":"IFERROR(IF((VLOOKUP(会員テーブル[[#This Row],[役職3]],役職テーブル[],3,FALSE)=\"出\"),1,0),0)","v":0},"鈴木市佐藤区","〒987-6543",{"$f":"会員テーブル[[#This Row],[役職１]]&\"  \"&会員テーブル[[#This Row],[役職2]]&\"  \"&会員テーブル[[#This Row],[役職3]]","v":"自治会副会長(書記)    "},"Y"]
[{"$f":"ROW()-ROW(会員テーブル[[#Headers],[会員SORT]])","v":3},{"$f":"IFERROR(VLOOKUP(C6,班名テーブル[],2,FALSE),\"\")","v":1},"[1]",null,"転居","野平","かづ子","のひら","Y",1,1010,5,null,"999-685-3095","女","昭和12",3,{"$f":"IFERROR(VLOOKUP(P6,年号テーブル[],2,FALSE),\"\")","v":1937},86,null,null,"","令和3",12,{"$f":"VLOOKUP(W6,nengou2,2,FALSE)","v":2021},null,"腰足歩行困難",null,null,null,null,3,null,null,null,null,"",{"$f":"IF(会員テーブル[[#This Row],[住所1]]=\"\",会員テーブル[[#This Row],[住所3]],IF(会員テーブル[[#This Row],[住所2]]=\"\",字名&会員テーブル[[#This Row],[住所1]]&会員テーブル[[#This Row],[住所3]],字名&会員テーブル[[#This Row],[住所1]]&\"-\"&会員テーブル[[#This Row],[住所2]]&会員テーブル[[#This Row],[住所3]]))","v":"山田村1010-5"},{"$f":"会員テーブル[[#This Row],[姓]]&\" \"&会員テーブル[[#This Row],[名]]","v":"野平 かづ子"},{"$f":"IFERROR(IF((VLOOKUP(会員テーブル[[#This Row],[役職１]],役職テーブル[],3,FALSE)=\"出\"),1,0),0)","v":0},{"$f":"IFERROR(IF((VLOOKUP(会員テーブル[[#This Row],[役職2]],役職テーブル[],3,FALSE)=\"出\"),1,0),0)","v":0},{"$f":"IFERROR(IF((VLOOKUP(会員テーブル[[#This Row],[役職3]],役職テーブル[],3,FALSE)=\"出\"),1,0),0)","v":0},"鈴木市佐藤区","〒987-6543",{"$f":"会員テーブル[[#This Row],[役職１]]&\"  \"&会員テーブル[[#This Row],[役職2]]&\"  \"&会員テーブル[[#This Row],[役職3]]","v":"    "}]
[{"$f":"ROW()-ROW(会員テーブル[[#Headers],[会員SORT]])","v":4},{"$f":"IFERROR(VLOOKUP(C7,班名テーブル[],2,FALSE),\"\")","v":1},"[1]",null,"転居","野平","公子","のひら",null,1,1010,5,null,"999-685-3095","女","昭和34",4,{"$f":"IFERROR(VLOOKUP(P7,年号テーブル[],2,FALSE),\"\")","v":1959},63,null,null,"","令和3",12,{"$f":"VLOOKUP(W7,nengou2,2,FALSE)","v":2021},null,null,null,null,null,null,4,null,null,null,null,"",{"$f":"IF(会員テーブル[[#This Row],[住所1]]=\"\",会員テーブル[[#This Row],[住所3]],IF(会員テーブル[[#This Row],[住所2]]=\"\",字名&会員テーブル[[#This Row],[住所1]]&会員テーブル[[#This Row],[住所3]],字名&会員テーブル[[#This Row],[住所1]]&\"-\"&会員テーブル[[#This Row],[住所2]]&会員テーブル[[#This Row],[住所3]]))","v":"山田村1010-5"},{"$f":"会員テーブル[[#This Row],[姓]]&\" \"&会員テーブル[[#This Row],[名]]","v":"野平 公子"},{"$f":"IFERROR(IF((VLOOKUP(会員テーブル[[#This Row],[役職１]],役職テーブル[],3,FALSE)=\"出\"),1,0),0)","v":0},{"$f":"IFERROR(IF((VLOOKUP(会員テーブル[[#This Row],[役職2]],役職テーブル[],3,FALSE)=\"出\"),1,0),0)","v":0},{"$f":"IFERROR(IF((VLOOKUP(会員テーブル[[#This Row],[役職3]],役職テーブル[],3,FALSE)=\"出\"),1,0),0)","v":0},"鈴木市佐藤区","〒987-6543",{"$f":"会員テーブル[[#This Row],[役職１]]&\"  \"&会員テーブル[[#This Row],[役職2]]&\"  \"&会員テーブル[[#This Row],[役職3]]","v":"    "}]
[{"$f":"ROW()-ROW(会員テーブル[[#Headers],[会員SORT]])","v":5},{"$f":"IFERROR(VLOOKUP(C8,班名テーブル[],2,FALSE),\"\")","v":1},"[1]",null,null,"井永","幸次","いなが　ゆきじ","Y",1,1018,null,null,"999-785-7207","男","昭和25",5,{"$f":"IFERROR(VLOOKUP(P8,年号テーブル[],2,FALSE),\"\")","v":1950},72,null,null,"",null,null,{"$f":"IFERROR(VLOOKUP(W8,nengou2,2,FALSE),\"\")","v":""},null,null,null,null,null,null,5,"ブロック長",null,null,null,"出",{"$f":"IF(会員テーブル[[#This Row],[住所1]]=\"\",会員テーブル[[#This Row],[住所3]],IF(会員テーブル[[#This Row],[住所2]]=\"\",字名&会員テーブル[[#This Row],[住所1]]&会員テーブル[[#This Row],[住所3]],字名&会員テーブル[[#This Row],[住所1]]&\"-\"&会員テーブル[[#This Row],[住所2]]&会員テーブル[[#This Row],[住所3]]))","v":"山田村1018"},{"$f":"会員テーブル[[#This Row],[姓]]&\" \"&会員テーブル[[#This Row],[名]]","v":"井永 幸次"},{"$f":"IFERROR(IF((VLOOKUP(会員テーブル[[#This Row],[役職１]],役職テーブル[],3,FALSE)=\"出\"),1,0),0)","v":1},{"$f":"IFERROR(IF((VLOOKUP(会員テーブル[[#This Row],[役職2]],役職テーブル[],3,FALSE)=\"出\"),1,0),0)","v":0},{"$f":"IFERROR(IF((VLOOKUP(会員テーブル[[#This Row],[役職3]],役職テーブル[],3,FALSE)=\"出\"),1,0),0)","v":0},"鈴木市佐藤区","〒987-6543",{"$f":"会員テーブル[[#This Row],[役職１]]&\"  \"&会員テーブル[[#This Row],[役職2]]&\"  \"&会員テーブル[[#This Row],[役職3]]","v":"ブロック長    "}]
[{"$f":"ROW()-ROW(会員テーブル[[#Headers],[会員SORT]])","v":6},{"$f":"IFERROR(VLOOKUP(C9,班名テーブル[],2,FALSE),\"\")","v":1},"[1]",null,null,"子兼","隆保","こかね　たかやす","Y",1,1020,2,null,"999-1111-8871","男","昭和42",6,{"$f":"IFERROR(VLOOKUP(P9,年号テーブル[],2,FALSE),\"\")","v":1967},55,null,null,"",null,null,"","災害弱者",null,null,null,null,"独居者",6,null,null,"ブロック長",null,"出",{"$f":"IF(会員テーブル[[#This Row],[住所1]]=\"\",会員テーブル[[#This Row],[住所3]],IF(会員テーブル[[#This Row],[住所2]]=\"\",字名&会員テーブル[[#This Row],[住所1]]&会員テーブル[[#This Row],[住所3]],字名&会員テーブル[[#This Row],[住所1]]&\"-\"&会員テーブル[[#This Row],[住所2]]&会員テーブル[[#This Row],[住所3]]))","v":"山田村1020-2"},{"$f":"会員テーブル[[#This Row],[姓]]&\" \"&会員テーブル[[#This Row],[名]]","v":"子兼 隆保"},{"$f":"IFERROR(IF((VLOOKUP(会員テーブル[[#This Row],[役職１]],役職テーブル[],3,FALSE)=\"出\"),1,0),0)","v":0},{"$f":"IFERROR(IF((VLOOKUP(会員テーブル[[#This Row],[役職2]],役職テーブル[],3,FALSE)=\"出\"),1,0),0)","v":0},{"$f":"IFERROR(IF((VLOOKUP(会員テーブル[[#This Row],[役職3]],役職テーブル[],3,FALSE)=\"出\"),1,0),0)","v":1},"鈴木市佐藤区","〒987-6543",{"$f":"会員テーブル[[#This Row],[役職１]]&\"  \"&会員テーブル[[#This Row],[役職2]]&\"  \"&会員テーブル[[#This Row],[役職3]]","v":"    ブロック長"},"Y"]
[{"$f":"ROW()-ROW(会員テーブル[[#Headers],[会員SORT]])","v":7},{"$f":"IFERROR(VLOOKUP(C10,班名テーブル[],2,FALSE),\"\")","v":2},"[2-1]",null,null,"経度","次郎","けいど じろう","Y",1,333,33,null,"333-333-3333","男","昭和63",1,{"$f":"IFERROR(VLOOKUP(P10,年号テーブル[],2,FALSE),\"\")","v":1988},35,null,null,"",null,null,"",null,null,null,null,null,null,7,null,null,null,null,"",{"$f":"IF(会員テーブル[[#This Row],[住所1]]=\"\",会員テーブル[[#This Row],[住所3]],IF(会員テーブル[[#This Row],[住所2]]=\"\",字名&会員テーブル[[#This Row],[住所1]]&会員テーブル[[#This Row],[住所3]],字名&会員テーブル[[#This Row],[住所1]]&\"-\"&会員テーブル[[#This Row],[住所2]]&会員テーブル[[#This Row],[住所3]]))","v":"山田村333-33"},{"$f":"会員テーブル[[#This Row],[姓]]&\" \"&会員テーブル[[#This Row],[名]]","v":"経度 次郎"},{"$f":"IFERROR(IF((VLOOKUP(会員テーブル[[#This Row],[役職１]],役職テーブル[],3,FALSE)=\"出\"),1,0),0)","v":0},{"$f":"IFERROR(IF((VLOOKUP(会員テーブル[[#This Row],[役職2]],役職テーブル[],3,FALSE)=\"出\"),1,0),0)","v":0},{"$f":"IFERROR(IF((VLOOKUP(会員テーブル[[#This Row],[役職3]],役職テーブル[],3,FALSE)=\"出\"),1,0),0)","v":0},"鈴木市佐藤区","〒987-6543",{"$f":"会員テーブル[[#This Row],[役職１]]&\"  \"&会員テーブル[[#This Row],[役職2]]&\"  \"&会員テーブル[[#This Row],[役職3]]","v":"    "}]
[{"$f":"ROW()-ROW(会員テーブル[[#Headers],[会員SORT]])","v":8},{"$f":"IFERROR(VLOOKUP(C11,班名テーブル[],2,FALSE),\"\")","v":2},"[2-1]",null,null,"井永","京子","いなが","Y",1,1018,null,null,"999-785-7207","女","昭和26",7,{"$f":"IFERROR(VLOOKUP(P11,年号テーブル[],2,FALSE),\"\")","v":1951},71,null,null,"",null,null,"",null,null,null,null,null,null,8,null,null,null,null,"",{"$f":"IF(会員テーブル[[#This Row],[住所1]]=\"\",会員テーブル[[#This Row],[住所3]],IF(会員テーブル[[#This Row],[住所2]]=\"\",字名&会員テーブル[[#This Row],[住所1]]&会員テーブル[[#This Row],[住所3]],字名&会員テーブル[[#This Row],[住所1]]&\"-\"&会員テーブル[[#This Row],[住所2]]&会員テーブル[[#This Row],[住所3]]))","v":"山田村1018"},{"$f":"会員テーブル[[#This Row],[姓]]&\" \"&会員テーブル[[#This Row],[名]]","v":"井永 京子"},{"$f":"IFERROR(IF((VLOOKUP(会員テーブル[[#This Row],[役職１]],役職テーブル[],3,FALSE)=\"出\"),1,0),0)","v":0},{"$f":"IFERROR(IF((VLOOKUP(会員テーブル[[#This Row],[役職2]],役職テーブル[],3,FALSE)=\"出\"),1,0),0)","v":0},{"$f":"IFERROR(IF((VLOOKUP(会員テーブル[[#This Row],[役職3]],役職テーブル[],3,FALSE)=\"出\"),1,0),0)","v":0},"鈴木市佐藤区","〒987-6543",{"$f":"会員テーブル[[#This Row],[役職１]]&\"  \"&会員テーブル[[#This Row],[役職2]]&\"  \"&会員テーブル[[#This Row],[役職3]]","v":"    "}]
[{"$f":"ROW()-ROW(会員テーブル[[#Headers],[会員SORT]])","v":9},{"$f":"IFERROR(VLOOKUP(C12,班名テーブル[],2,FALSE),\"\")","v":2},"[2-1]",null,null,"井永","和広","いなが",null,2,1018,null,null,"999-785-7207","男","昭和43",8,{"$f":"IFERROR(VLOOKUP(P12,年号テーブル[],2,FALSE),\"\")","v":1968},54,null,null,"",null,null,"",null,null,null,null,null,null,9,null,"班長",null,null,"",{"$f":"IF(会員テーブル[[#This Row],[住所1]]=\"\",会員テーブル[[#This Row],[住所3]],IF(会員テーブル[[#This Row],[住所2]]=\"\",字名&会員テーブル[[#This Row],[住所1]]&会員テーブル[[#This Row],[住所3]],字名&会員テーブル[[#This Row],[住所1]]&\"-\"&会員テーブル[[#This Row],[住所2]]&会員テーブル[[#This Row],[住所3]]))","v":"山田村1018"},{"$f":"会員テーブル[[#This Row],[姓]]&\" \"&会員テーブル[[#This Row],[名]]","v":"井永 和広"},{"$f":"IFERROR(IF((VLOOKUP(会員テーブル[[#This Row],[役職１]],役職テーブル[],3,FALSE)=\"出\"),1,0),0)","v":0},{"$f":"IFERROR(IF((VLOOKUP(会員テーブル[[#This Row],[役職2]],役職テーブル[],3,FALSE)=\"出\"),1,0),0)","v":0},{"$f":"IFERROR(IF((VLOOKUP(会員テーブル[[#This Row],[役職3]],役職テーブル[],3,FALSE)=\"出\"),1,0),0)","v":0},"鈴木市佐藤区","〒987-6543",{"$f":"会員テーブル[[#This Row],[役職１]]&\"  \"&会員テーブル[[#This Row],[役職2]]&\"  \"&会員テーブル[[#This Row],[役職3]]","v":"  班長  "}]
[{"$f":"ROW()-ROW(会員テーブル[[#Headers],[会員SORT]])","v":10},{"$f":"IFERROR(VLOOKUP(C13,班名テーブル[],2,FALSE),\"\")","v":2},"[2-1]",null,null,"井永","友子","いなが",null,3,1018,null,null,"999-785-7207","女","昭和56",9,{"$f":"IFERROR(VLOOKUP(P13,年号テーブル[],2,FALSE),\"\")","v":1981},41,null,null,"",null,null,"",null,null,null,null,null,null,null,null,null,null,null,"",{"$f":"IF(会員テーブル[[#This Row],[住所1]]=\"\",会員テーブル[[#This Row],[住所3]],IF(会員テーブル[[#This Row],[住所2]]=\"\",字名&会員テーブル[[#This Row],[住所1]]&会員テーブル[[#This Row],[住所3]],字名&会員テーブル[[#This Row],[住所1]]&\"-\"&会員テーブル[[#This Row],[住所2]]&会員テーブル[[#This Row],[住所3]]))","v":"山田村1018"},{"$f":"会員テーブル[[#This Row],[姓]]&\" \"&会員テーブル[[#This Row],[名]]","v":"井永 友子"},{"$f":"IFERROR(IF((VLOOKUP(会員テーブル[[#This Row],[役職１]],役職テーブル[],3,FALSE)=\"出\"),1,0),0)","v":0},{"$f":"IFERROR(IF((VLOOKUP(会員テーブル[[#This Row],[役職2]],役職テーブル[],3,FALSE)=\"出\"),1,0),0)","v":0},{"$f":"IFERROR(IF((VLOOKUP(会員テーブル[[#This Row],[役職3]],役職テーブル[],3,FALSE)=\"出\"),1,0),0)","v":0},"鈴木市佐藤区","〒987-6543",{"$f":"会員テーブル[[#This Row],[役職１]]&\"  \"&会員テーブル[[#This Row],[役職2]]&\"  \"&会員テーブル[[#This Row],[役職3]]","v":"    "}]
[{"$f":"ROW()-ROW(会員テーブル[[#Headers],[会員SORT]])","v":11},{"$f":"IFERROR(VLOOKUP(C14,班名テーブル[],2,FALSE),\"\")","v":2},"[2-1]",null,"転居","井永","多生","いなが",null,5,1018,null,null,"999-785-7207","女","平成30",10,{"$f":"IFERROR(VLOOKUP(P14,年号テーブル[],2,FALSE),\"\")","v":2018},4,null,null,"","令和4",11,2022,null,null,null,null,null,null,null,null,null,null,null,"",{"$f":"IF(会員テーブル[[#This Row],[住所1]]=\"\",会員テーブル[[#This Row],[住所3]],IF(会員テーブル[[#This Row],[住所2]]=\"\",字名&会員テーブル[[#This Row],[住所1]]&会員テーブル[[#This Row],[住所3]],字名&会員テーブル[[#This Row],[住所1]]&\"-\"&会員テーブル[[#This Row],[住所2]]&会員テーブル[[#This Row],[住所3]]))","v":"山田村1018"},{"$f":"会員テーブル[[#This Row],[姓]]&\" \"&会員テーブル[[#This Row],[名]]","v":"井永 多生"},{"$f":"IFERROR(IF((VLOOKUP(会員テーブル[[#This Row],[役職１]],役職テーブル[],3,FALSE)=\"出\"),1,0),0)","v":0},{"$f":"IFERROR(IF((VLOOKUP(会員テーブル[[#This Row],[役職2]],役職テーブル[],3,FALSE)=\"出\"),1,0),0)","v":0},{"$f":"IFERROR(IF((VLOOKUP(会員テーブル[[#This Row],[役職3]],役職テーブル[],3,FALSE)=\"出\"),1,0),0)","v":0},"鈴木市佐藤区","〒987-6543",{"$f":"会員テーブル[[#This Row],[役職１]]&\"  \"&会員テーブル[[#This Row],[役職2]]&\"  \"&会員テーブル[[#This Row],[役職3]]","v":"    "}]
[{"$f":"ROW()-ROW(会員テーブル[[#Headers],[会員SORT]])","v":12},{"$f":"IFERROR(VLOOKUP(C15,班名テーブル[],2,FALSE),\"\")","v":2},"[2-1]",null,null,"島中","清剛","しまなか","Y",1,1021,7,null,"999-785-5197","男","昭和48",11,{"$f":"IFERROR(VLOOKUP(P15,年号テーブル[],2,FALSE),\"\")","v":1973},49,null,null,"",null,null,"",null,null,null,null,null,null,null,null,null,null,null,"",{"$f":"IF(会員テーブル[[#This Row],[住所1]]=\"\",会員テーブル[[#This Row],[住所3]],IF(会員テーブル[[#This Row],[住所2]]=\"\",字名&会員テーブル[[#This Row],[住所1]]&会員テーブル[[#This Row],[住所3]],字名&会員テーブル[[#This Row],[住所1]]&\"-\"&会員テーブル[[#This Row],[住所2]]&会員テーブル[[#This Row],[住所3]]))","v":"山田村1021-7"},{"$f":"会員テーブル[[#This Row],[姓]]&\" \"&会員テーブル[[#This Row],[名]]","v":"島中 清剛"},{"$f":"IFERROR(IF((VLOOKUP(会員テーブル[[#This Row],[役職１]],役職テーブル[],3,FALSE)=\"出\"),1,0),0)","v":0},{"$f":"IFERROR(IF((VLOOKUP(会員テーブル[[#This Row],[役職2]],役職テーブル[],3,FALSE)=\"出\"),1,0),0)","v":0},{"$f":"IFERROR(IF((VLOOKUP(会員テーブル[[#This Row],[役職3]],役職テーブル[],3,FALSE)=\"出\"),1,0),0)","v":0},"鈴木市佐藤区","〒987-6543",{"$f":"会員テーブル[[#This Row],[役職１]]&\"  \"&会員テーブル[[#This Row],[役職2]]&\"  \"&会員テーブル[[#This Row],[役職3]]","v":"    "}]
[{"$f":"ROW()-ROW(会員テーブル[[#Headers],[会員SORT]])","v":13},{"$f":"IFERROR(VLOOKUP(C16,班名テーブル[],2,FALSE),\"\")","v":2},"[2-1]",null,null,"島中","澄子","しまなか",null,2,1021,7,null,"999-785-5197","女","昭和19",12,{"$f":"IFERROR(VLOOKUP(P16,年号テーブル[],2,FALSE),\"\")","v":1944},78,null,null,"",null,null,"",null,null,null,null,null,null,null,"女性部会計",null,null,null,"",{"$f":"IF(会員テーブル[[#This Row],[住所1]]=\"\",会員テーブル[[#This Row],[住所3]],IF(会員テーブル[[#This Row],[住所2]]=\"\",字名&会員テーブル[[#This Row],[住所1]]&会員テーブル[[#This Row],[住所3]],字名&会員テーブル[[#This Row],[住所1]]&\"-\"&会員テーブル[[#This Row],[住所2]]&会員テーブル[[#This Row],[住所3]]))","v":"山田村1021-7"},{"$f":"会員テーブル[[#This Row],[姓]]&\" \"&会員テーブル[[#This Row],[名]]","v":"島中 澄子"},{"$f":"IFERROR(IF((VLOOKUP(会員テーブル[[#This Row],[役職１]],役職テーブル[],3,FALSE)=\"出\"),1,0),0)","v":0},{"$f":"IFERROR(IF((VLOOKUP(会員テーブル[[#This Row],[役職2]],役職テーブル[],3,FALSE)=\"出\"),1,0),0)","v":0},{"$f":"IFERROR(IF((VLOOKUP(会員テーブル[[#This Row],[役職3]],役職テーブル[],3,FALSE)=\"出\"),1,0),0)","v":0},"鈴木市佐藤区","〒987-6543",{"$f":"会員テーブル[[#This Row],[役職１]]&\"  \"&会員テーブル[[#This Row],[役職2]]&\"  \"&会員テーブル[[#This Row],[役職3]]","v":"女性部会計    "}]
[{"$f":"ROW()-ROW(会員テーブル[[#Headers],[会員SORT]])","v":14},{"$f":"IFERROR(VLOOKUP(C17,班名テーブル[],2,FALSE),\"\")","v":2},"[2-1]",null,null,"下山","忍","したやま　しのぶ","Y",1,1021,10,null,"999-785-7533","男","昭和41",1,{"$f":"IFERROR(VLOOKUP(P17,年号テーブル[],2,FALSE),\"\")","v":1966},57,null,null,"",null,null,"",null,null,null,null,null,null,null,null,null,null,null,"",{"$f":"IF(会員テーブル[[#This Row],[住所1]]=\"\",会員テーブル[[#This Row],[住所3]],IF(会員テーブル[[#This Row],[住所2]]=\"\",字名&会員テーブル[[#This Row],[住所1]]&会員テーブル[[#This Row],[住所3]],字名&会員テーブル[[#This Row],[住所1]]&\"-\"&会員テーブル[[#This Row],[住所2]]&会員テーブル[[#This Row],[住所3]]))","v":"山田村1021-10"},{"$f":"会員テーブル[[#This Row],[姓]]&\" \"&会員テーブル[[#This Row],[名]]","v":"下山 忍"},{"$f":"IFERROR(IF((VLOOKUP(会員テーブル[[#This Row],[役職１]],役職テーブル[],3,FALSE)=\"出\"),1,0),0)","v":0},{"$f":"IFERROR(IF((VLOOKUP(会員テーブル[[#This Row],[役職2]],役職テーブル[],3,FALSE)=\"出\"),1,0),0)","v":0},{"$f":"IFERROR(IF((VLOOKUP(会員テーブル[[#This Row],[役職3]],役職テーブル[],3,FALSE)=\"出\"),1,0),0)","v":0},"鈴木市佐藤区","〒987-6543",{"$f":"会員テーブル[[#This Row],[役職１]]&\"  \"&会員テーブル[[#This Row],[役職2]]&\"  \"&会員テーブル[[#This Row],[役職3]]","v":"    "}]
[{"$f":"ROW()-ROW(会員テーブル[[#Headers],[会員SORT]])","v":15},{"$f":"IFERROR(VLOOKUP(C18,班名テーブル[],2,FALSE),\"\")","v":2},"[2-1]",null,null,"柳小","秋夫","やなぎこ　あきお","Y",1,1021,13,null,"999-785-7696","男","昭和23",2,{"$f":"IFERROR(VLOOKUP(P18,年号テーブル[],2,FALSE),\"\")","v":1948},75,null,null,"",null,null,"",null,null,null,null,null,null,null,null,null,null,null,"",{"$f":"IF(会員テーブル[[#This Row],[住所1]]=\"\",会員テーブル[[#This Row],[住所3]],IF(会員テーブル[[#This Row],[住所2]]=\"\",字名&会員テーブル[[#This Row],[住所1]]&会員テーブル[[#This Row],[住所3]],字名&会員テーブル[[#This Row],[住所1]]&\"-\"&会員テーブル[[#This Row],[住所2]]&会員テーブル[[#This Row],[住所3]]))","v":"山田村1021-13"},{"$f":"会員テーブル[[#This Row],[姓]]&\" \"&会員テーブル[[#This Row],[名]]","v":"柳小 秋夫"},{"$f":"IFERROR(IF((VLOOKUP(会員テーブル[[#This Row],[役職１]],役職テーブル[],3,FALSE)=\"出\"),1,0),0)","v":0},{"$f":"IFERROR(IF((VLOOKUP(会員テーブル[[#This Row],[役職2]],役職テーブル[],3,FALSE)=\"出\"),1,0),0)","v":0},{"$f":"IFERROR(IF((VLOOKUP(会員テーブル[[#This Row],[役職3]],役職テーブル[],3,FALSE)=\"出\"),1,0),0)","v":0},"鈴木市佐藤区","〒987-6543",{"$f":"会員テーブル[[#This Row],[役職１]]&\"  \"&会員テーブル[[#This Row],[役職2]]&\"  \"&会員テーブル[[#This Row],[役職3]]","v":"    "}]
[{"$f":"ROW()-ROW(会員テーブル[[#Headers],[会員SORT]])","v":16},{"$f":"IFERROR(VLOOKUP(C19,班名テーブル[],2,FALSE),\"\")","v":2},"[2-1]",null,null,"柳小","房枝","やなぎこ　ふさえ",null,2,1021,13,null,"999-785-7696","女","昭和28",3,{"$f":"IFERROR(VLOOKUP(P19,年号テーブル[],2,FALSE),\"\")","v":1953},70,null,null,"",null,null,"",null,null,null,null,null,null,null,null,null,null,null,"",{"$f":"IF(会員テーブル[[#This Row],[住所1]]=\"\",会員テーブル[[#This Row],[住所3]],IF(会員テーブル[[#This Row],[住所2]]=\"\",字名&会員テーブル[[#This Row],[住所1]]&会員テーブル[[#This Row],[住所3]],字名&会員テーブル[[#This Row],[住所1]]&\"-\"&会員テーブル[[#This Row],[住所2]]&会員テーブル[[#This Row],[住所3]]))","v":"山田村1021-13"},{"$f":"会員テーブル[[#This Row],[姓]]&\" \"&会員テーブル[[#This Row],[名]]","v":"柳小 房枝"},{"$f":"IFERROR(IF((VLOOKUP(会員テーブル[[#This Row],[役職１]],役職テーブル[],3,FALSE)=\"出\"),1,0),0)","v":0},{"$f":"IFERROR(IF((VLOOKUP(会員テーブル[[#This Row],[役職2]],役職テーブル[],3,FALSE)=\"出\"),1,0),0)","v":0},{"$f":"IFERROR(IF((VLOOKUP(会員テーブル[[#This Row],[役職3]],役職テーブル[],3,FALSE)=\"出\"),1,0),0)","v":0},"鈴木市佐藤区","〒987-6543",{"$f":"会員テーブル[[#This Row],[役職１]]&\"  \"&会員テーブル[[#This Row],[役職2]]&\"  \"&会員テーブル[[#This Row],[役職3]]","v":"    "}]
[{"$f":"ROW()-ROW(会員テーブル[[#Headers],[会員SORT]])","v":17},{"$f":"IFERROR(VLOOKUP(C20,班名テーブル[],2,FALSE),\"\")","v":3},"[2-2]",null,null,"下山","恵利子","したやま　えりこ","Y",1,1021,10,null,"999-785-7533","女","昭和47",4,{"$f":"IFERROR(VLOOKUP(P20,年号テーブル[],2,FALSE),\"\")","v":1972},50,null,null,"",null,null,"",null,null,null,null,null,null,null,null,null,null,null,"",{"$f":"IF(会員テーブル[[#This Row],[住所1]]=\"\",会員テーブル[[#This Row],[住所3]],IF(会員テーブル[[#This Row],[住所2]]=\"\",字名&会員テーブル[[#This Row],[住所1]]&会員テーブル[[#This Row],[住所3]],字名&会員テーブル[[#This Row],[住所1]]&\"-\"&会員テーブル[[#This Row],[住所2]]&会員テーブル[[#This Row],[住所3]]))","v":"山田村1021-10"},{"$f":"会員テーブル[[#This Row],[姓]]&\" \"&会員テーブル[[#This Row],[名]]","v":"下山 恵利子"},{"$f":"IFERROR(IF((VLOOKUP(会員テーブル[[#This Row],[役職１]],役職テーブル[],3,FALSE)=\"出\"),1,0),0)","v":0},{"$f":"IFERROR(IF((VLOOKUP(会員テーブル[[#This Row],[役職2]],役職テーブル[],3,FALSE)=\"出\"),1,0),0)","v":0},{"$f":"IFERROR(IF((VLOOKUP(会員テーブル[[#This Row],[役職3]],役職テーブル[],3,FALSE)=\"出\"),1,0),0)","v":0},"鈴木市佐藤区","〒987-6543",{"$f":"会員テーブル[[#This Row],[役職１]]&\"  \"&会員テーブル[[#This Row],[役職2]]&\"  \"&会員テーブル[[#This Row],[役職3]]","v":"    "}]
[{"$f":"ROW()-ROW(会員テーブル[[#Headers],[会員SORT]])","v":18},{"$f":"IFERROR(VLOOKUP(C21,班名テーブル[],2,FALSE),\"\")","v":3},"[2-2]",null,null,"下山","隼矢","したやま　じゅんや",null,2,1021,10,null,"999-785-7533","男","平成11",5,{"$f":"IFERROR(VLOOKUP(P21,年号テーブル[],2,FALSE),\"\")","v":1999},23,null,null,"",null,null,"",null,null,null,null,null,null,null,null,null,null,null,"",{"$f":"IF(会員テーブル[[#This Row],[住所1]]=\"\",会員テーブル[[#This Row],[住所3]],IF(会員テーブル[[#This Row],[住所2]]=\"\",字名&会員テーブル[[#This Row],[住所1]]&会員テーブル[[#This Row],[住所3]],字名&会員テーブル[[#This Row],[住所1]]&\"-\"&会員テーブル[[#This Row],[住所2]]&会員テーブル[[#This Row],[住所3]]))","v":"山田村1021-10"},{"$f":"会員テーブル[[#This Row],[姓]]&\" \"&会員テーブル[[#This Row],[名]]","v":"下山 隼矢"},{"$f":"IFERROR(IF((VLOOKUP(会員テーブル[[#This Row],[役職１]],役職テーブル[],3,FALSE)=\"出\"),1,0),0)","v":0},{"$f":"IFERROR(IF((VLOOKUP(会員テーブル[[#This Row],[役職2]],役職テーブル[],3,FALSE)=\"出\"),1,0),0)","v":0},{"$f":"IFERROR(IF((VLOOKUP(会員テーブル[[#This Row],[役職3]],役職テーブル[],3,FALSE)=\"出\"),1,0),0)","v":0},"鈴木市佐藤区","〒987-6543",{"$f":"会員テーブル[[#This Row],[役職１]]&\"  \"&会員テーブル[[#This Row],[役職2]]&\"  \"&会員テーブル[[#This Row],[役職3]]","v":"    "},"Y"]
[{"$f":"ROW()-ROW(会員テーブル[[#Headers],[会員SORT]])","v":19},{"$f":"IFERROR(VLOOKUP(C22,班名テーブル[],2,FALSE),\"\")","v":3},"[2-2]",null,null,"下山","祐依","したやま　ゆい",null,3,1021,10,null,"999-785-7533","女","平成14",6,{"$f":"IFERROR(VLOOKUP(P22,年号テーブル[],2,FALSE),\"\")","v":2002},20,null,null,"",null,null,"",null,null,null,null,null,null,null,null,null,null,null,"",{"$f":"IF(会員テーブル[[#This Row],[住所1]]=\"\",会員テーブル[[#This Row],[住所3]],IF(会員テーブル[[#This Row],[住所2]]=\"\",字名&会員テーブル[[#This Row],[住所1]]&会員テーブル[[#This Row],[住所3]],字名&会員テーブル[[#This Row],[住所1]]&\"-\"&会員テーブル[[#This Row],[住所2]]&会員テーブル[[#This Row],[住所3]]))","v":"山田村1021-10"},{"$f":"会員テーブル[[#This Row],[姓]]&\" \"&会員テーブル[[#This Row],[名]]","v":"下山 祐依"},{"$f":"IFERROR(IF((VLOOKUP(会員テーブル[[#This Row],[役職１]],役職テーブル[],3,FALSE)=\"出\"),1,0),0)","v":0},{"$f":"IFERROR(IF((VLOOKUP(会員テーブル[[#This Row],[役職2]],役職テーブル[],3,FALSE)=\"出\"),1,0),0)","v":0},{"$f":"IFERROR(IF((VLOOKUP(会員テーブル[[#This Row],[役職3]],役職テーブル[],3,FALSE)=\"出\"),1,0),0)","v":0},"鈴木市佐藤区","〒987-6543",{"$f":"会員テーブル[[#This Row],[役職１]]&\"  \"&会員テーブル[[#This Row],[役職2]]&\"  \"&会員テーブル[[#This Row],[役職3]]","v":"    "}]
[{"$f":"ROW()-ROW(会員テーブル[[#Headers],[会員SORT]])","v":20},{"$f":"IFERROR(VLOOKUP(C23,班名テーブル[],2,FALSE),\"\")","v":3},"[2-2]",null,null,"下山","ひで子","したやま　ひでこ",null,4,1021,10,null,"999-785-7533","女","昭和18",7,{"$f":"IFERROR(VLOOKUP(P23,年号テーブル[],2,FALSE),\"\")","v":1943},79,null,null,"",null,null,"",null,null,null,null,null,null,null,null,null,null,null,"",{"$f":"IF(会員テーブル[[#This Row],[住所1]]=\"\",会員テーブル[[#This Row],[住所3]],IF(会員テーブル[[#This Row],[住所2]]=\"\",字名&会員テーブル[[#This Row],[住所1]]&会員テーブル[[#This Row],[住所3]],字名&会員テーブル[[#This Row],[住所1]]&\"-\"&会員テーブル[[#This Row],[住所2]]&会員テーブル[[#This Row],[住所3]]))","v":"山田村1021-10"},{"$f":"会員テーブル[[#This Row],[姓]]&\" \"&会員テーブル[[#This Row],[名]]","v":"下山 ひで子"},{"$f":"IFERROR(IF((VLOOKUP(会員テーブル[[#This Row],[役職１]],役職テーブル[],3,FALSE)=\"出\"),1,0),0)","v":0},{"$f":"IFERROR(IF((VLOOKUP(会員テーブル[[#This Row],[役職2]],役職テーブル[],3,FALSE)=\"出\"),1,0),0)","v":0},{"$f":"IFERROR(IF((VLOOKUP(会員テーブル[[#This Row],[役職3]],役職テーブル[],3,FALSE)=\"出\"),1,0),0)","v":0},"鈴木市佐藤区","〒987-6543",{"$f":"会員テーブル[[#This Row],[役職１]]&\"  \"&会員テーブル[[#This Row],[役職2]]&\"  \"&会員テーブル[[#This Row],[役職3]]","v":"    "}]
[{"$f":"ROW()-ROW(会員テーブル[[#Headers],[会員SORT]])","v":21},{"$f":"IFERROR(VLOOKUP(C24,班名テーブル[],2,FALSE),\"\")","v":3},"[2-2]",null,null,"花月","かよ子","かげつ　かよこ","Y",1,1021,15,null,"999-685-5292","女","昭和25",8,{"$f":"IFERROR(VLOOKUP(P24,年号テーブル[],2,FALSE),\"\")","v":1950},72,null,null,"",null,null,"",null,null,null,null,null,null,null,null,null,null,null,"",{"$f":"IF(会員テーブル[[#This Row],[住所1]]=\"\",会員テーブル[[#This Row],[住所3]],IF(会員テーブル[[#This Row],[住所2]]=\"\",字名&会員テーブル[[#This Row],[住所1]]&会員テーブル[[#This Row],[住所3]],字名&会員テーブル[[#This Row],[住所1]]&\"-\"&会員テーブル[[#This Row],[住所2]]&会員テーブル[[#This Row],[住所3]]))","v":"山田村1021-15"},{"$f":"会員テーブル[[#This Row],[姓]]&\" \"&会員テーブル[[#This Row],[名]]","v":"花月 かよ子"},{"$f":"IFERROR(IF((VLOOKUP(会員テーブル[[#This Row],[役職１]],役職テーブル[],3,FALSE)=\"出\"),1,0),0)","v":0},{"$f":"IFERROR(IF((VLOOKUP(会員テーブル[[#This Row],[役職2]],役職テーブル[],3,FALSE)=\"出\"),1,0),0)","v":0},{"$f":"IFERROR(IF((VLOOKUP(会員テーブル[[#This Row],[役職3]],役職テーブル[],3,FALSE)=\"出\"),1,0),0)","v":0},"鈴木市佐藤区","〒987-6543",{"$f":"会員テーブル[[#This Row],[役職１]]&\"  \"&会員テーブル[[#This Row],[役職2]]&\"  \"&会員テーブル[[#This Row],[役職3]]","v":"    "},"Y"]
[{"$f":"ROW()-ROW(会員テーブル[[#Headers],[会員SORT]])","v":22},{"$f":"IFERROR(VLOOKUP(C25,班名テーブル[],2,FALSE),\"\")","v":3},"[2-2]",null,null,"花月","康祐","かげつ",null,2,1021,15,null,"999-685-5292","男","昭和58",9,{"$f":"IFERROR(VLOOKUP(P25,年号テーブル[],2,FALSE),\"\")","v":1983},39,null,null,"",null,null,"",null,null,null,null,null,null,null,null,null,null,null,"",{"$f":"IF(会員テーブル[[#This Row],[住所1]]=\"\",会員テーブル[[#This Row],[住所3]],IF(会員テーブル[[#This Row],[住所2]]=\"\",字名&会員テーブル[[#This Row],[住所1]]&会員テーブル[[#This Row],[住所3]],字名&会員テーブル[[#This Row],[住所1]]&\"-\"&会員テーブル[[#This Row],[住所2]]&会員テーブル[[#This Row],[住所3]]))","v":"山田村1021-15"},{"$f":"会員テーブル[[#This Row],[姓]]&\" \"&会員テーブル[[#This Row],[名]]","v":"花月 康祐"},{"$f":"IFERROR(IF((VLOOKUP(会員テーブル[[#This Row],[役職１]],役職テーブル[],3,FALSE)=\"出\"),1,0),0)","v":0},{"$f":"IFERROR(IF((VLOOKUP(会員テーブル[[#This Row],[役職2]],役職テーブル[],3,FALSE)=\"出\"),1,0),0)","v":0},{"$f":"IFERROR(IF((VLOOKUP(会員テーブル[[#This Row],[役職3]],役職テーブル[],3,FALSE)=\"出\"),1,0),0)","v":0},"鈴木市佐藤区","〒987-6543",{"$f":"会員テーブル[[#This Row],[役職１]]&\"  \"&会員テーブル[[#This Row],[役職2]]&\"  \"&会員テーブル[[#This Row],[役職3]]","v":"    "}]
[{"$f":"ROW()-ROW(会員テーブル[[#Headers],[会員SORT]])","v":23},{"$f":"IFERROR(VLOOKUP(C26,班名テーブル[],2,FALSE),\"\")","v":3},"[2-2]",null,null,"花月","千安紀","かげつ",null,3,1021,15,null,"999-685-5292","女","昭和61",10,{"$f":"IFERROR(VLOOKUP(P26,年号テーブル[],2,FALSE),\"\")","v":1986},36,null,null,"",null,null,"",null,null,null,null,null,null,null,null,null,null,null,"",{"$f":"IF(会員テーブル[[#This Row],[住所1]]=\"\",会員テーブル[[#This Row],[住所3]],IF(会員テーブル[[#This Row],[住所2]]=\"\",字名&会員テーブル[[#This Row],[住所1]]&会員テーブル[[#This Row],[住所3]],字名&会員テーブル[[#This Row],[住所1]]&\"-\"&会員テーブル[[#This Row],[住所2]]&会員テーブル[[#This Row],[住所3]]))","v":"山田村1021-15"},{"$f":"会員テーブル[[#This Row],[姓]]&\" \"&会員テーブル[[#This Row],[名]]","v":"花月 千安紀"},{"$f":"IFERROR(IF((VLOOKUP(会員テーブル[[#This Row],[役職１]],役職テーブル[],3,FALSE)=\"出\"),1,0),0)","v":0},{"$f":"IFERROR(IF((VLOOKUP(会員テーブル[[#This Row],[役職2]],役職テーブル[],3,FALSE)=\"出\"),1,0),0)","v":0},{"$f":"IFERROR(IF((VLOOKUP(会員テーブル[[#This Row],[役職3]],役職テーブル[],3,FALSE)=\"出\"),1,0),0)","v":0},"鈴木市佐藤区","〒987-6543",{"$f":"会員テーブル[[#This Row],[役職１]]&\"  \"&会員テーブル[[#This Row],[役職2]]&\"  \"&会員テーブル[[#This Row],[役職3]]","v":"    "}]
[{"$f":"ROW()-ROW(会員テーブル[[#Headers],[会員SORT]])","v":24},{"$f":"IFERROR(VLOOKUP(C27,班名テーブル[],2,FALSE),\"\")","v":4},"[3-1]",null,null,"本松","健","もとまつ　けん","Y",1,1019,2,null,"999-2222-9794","男","昭和54",11,{"$f":"IFERROR(VLOOKUP(P27,年号テーブル[],2,FALSE),\"\")","v":1979},43,null,null,"",null,null,"","災害弱者",null,null,null,null,null,null,null,null,null,null,"",{"$f":"IF(会員テーブル[[#This Row],[住所1]]=\"\",会員テーブル[[#This Row],[住所3]],IF(会員テーブル[[#This Row],[住所2]]=\"\",字名&会員テーブル[[#This Row],[住所1]]&会員テーブル[[#This Row],[住所3]],字名&会員テーブル[[#This Row],[住所1]]&\"-\"&会員テーブル[[#This Row],[住所2]]&会員テーブル[[#This Row],[住所3]]))","v":"山田村1019-2"},{"$f":"会員テーブル[[#This Row],[姓]]&\" \"&会員テーブル[[#This Row],[名]]","v":"本松 健"},{"$f":"IFERROR(IF((VLOOKUP(会員テーブル[[#This Row],[役職１]],役職テーブル[],3,FALSE)=\"出\"),1,0),0)","v":0},{"$f":"IFERROR(IF((VLOOKUP(会員テーブル[[#This Row],[役職2]],役職テーブル[],3,FALSE)=\"出\"),1,0),0)","v":0},{"$f":"IFERROR(IF((VLOOKUP(会員テーブル[[#This Row],[役職3]],役職テーブル[],3,FALSE)=\"出\"),1,0),0)","v":0},"鈴木市佐藤区","〒987-6543",{"$f":"会員テーブル[[#This Row],[役職１]]&\"  \"&会員テーブル[[#This Row],[役職2]]&\"  \"&会員テーブル[[#This Row],[役職3]]","v":"    "}]
[{"$f":"ROW()-ROW(会員テーブル[[#Headers],[会員SORT]])","v":25},{"$f":"IFERROR(VLOOKUP(C28,班名テーブル[],2,FALSE),\"\")","v":4},"[3-1]",null,null,"本松","紗英子","もとまつ",null,2,1019,2,null,"999-2222-9794","女","昭和58",12,{"$f":"IFERROR(VLOOKUP(P28,年号テーブル[],2,FALSE),\"\")","v":1983},39,null,null,"",null,null,"",null,null,null,null,null,null,null,null,null,null,null,"",{"$f":"IF(会員テーブル[[#This Row],[住所1]]=\"\",会員テーブル[[#This Row],[住所3]],IF(会員テーブル[[#This Row],[住所2]]=\"\",字名&会員テーブル[[#This Row],[住所1]]&会員テーブル[[#This Row],[住所3]],字名&会員テーブル[[#This Row],[住所1]]&\"-\"&会員テーブル[[#This Row],[住所2]]&会員テーブル[[#This Row],[住所3]]))","v":"山田村1019-2"},{"$f":"会員テーブル[[#This Row],[姓]]&\" \"&会員テーブル[[#This Row],[名]]","v":"本松 紗英子"},{"$f":"IFERROR(IF((VLOOKUP(会員テーブル[[#This Row],[役職１]],役職テーブル[],3,FALSE)=\"出\"),1,0),0)","v":0},{"$f":"IFERROR(IF((VLOOKUP(会員テーブル[[#This Row],[役職2]],役職テーブル[],3,FALSE)=\"出\"),1,0),0)","v":0},{"$f":"IFERROR(IF((VLOOKUP(会員テーブル[[#This Row],[役職3]],役職テーブル[],3,FALSE)=\"出\"),1,0),0)","v":0},"鈴木市佐藤区","〒987-6543",{"$f":"会員テーブル[[#This Row],[役職１]]&\"  \"&会員テーブル[[#This Row],[役職2]]&\"  \"&会員テーブル[[#This Row],[役職3]]","v":"    "}]
[{"$f":"ROW()-ROW(会員テーブル[[#Headers],[会員SORT]])","v":26},{"$f":"IFERROR(VLOOKUP(C29,班名テーブル[],2,FALSE),\"\")","v":4},"[3-1]",null,null,"野河","節男","のかわ　せつお","Y",1,1021,16,null,"999-685-0721","男","昭和27",1,{"$f":"IFERROR(VLOOKUP(P29,年号テーブル[],2,FALSE),\"\")","v":1952},71,null,null,"",null,null,"",null,null,null,null,null,"独居者",null,null,null,null,null,"",{"$f":"IF(会員テーブル[[#This Row],[住所1]]=\"\",会員テーブル[[#This Row],[住所3]],IF(会員テーブル[[#This Row],[住所2]]=\"\",字名&会員テーブル[[#This Row],[住所1]]&会員テーブル[[#This Row],[住所3]],字名&会員テーブル[[#This Row],[住所1]]&\"-\"&会員テーブル[[#This Row],[住所2]]&会員テーブル[[#This Row],[住所3]]))","v":"山田村1021-16"},{"$f":"会員テーブル[[#This Row],[姓]]&\" \"&会員テーブル[[#This Row],[名]]","v":"野河 節男"},{"$f":"IFERROR(IF((VLOOKUP(会員テーブル[[#This Row],[役職１]],役職テーブル[],3,FALSE)=\"出\"),1,0),0)","v":0},{"$f":"IFERROR(IF((VLOOKUP(会員テーブル[[#This Row],[役職2]],役職テーブル[],3,FALSE)=\"出\"),1,0),0)","v":0},{"$f":"IFERROR(IF((VLOOKUP(会員テーブル[[#This Row],[役職3]],役職テーブル[],3,FALSE)=\"出\"),1,0),0)","v":0},"鈴木市佐藤区","〒987-6543",{"$f":"会員テーブル[[#This Row],[役職１]]&\"  \"&会員テーブル[[#This Row],[役職2]]&\"  \"&会員テーブル[[#This Row],[役職3]]","v":"    "}]
[{"$f":"ROW()-ROW(会員テーブル[[#Headers],[会員SORT]])","v":27},{"$f":"IFERROR(VLOOKUP(C30,班名テーブル[],2,FALSE),\"\")","v":4},"[3-1]",null,"転居","水清","克彦","みずきよ　かつひこ","Y",1,1022,4,null,"999-1122-5958","男","昭和62",2,{"$f":"IFERROR(VLOOKUP(P30,年号テーブル[],2,FALSE),\"\")","v":1987},36,null,null,"","令和4",2,2022,null,null,null,null,null,null,null,null,null,null,null,"",{"$f":"IF(会員テーブル[[#This Row],[住所1]]=\"\",会員テーブル[[#This Row],[住所3]],IF(会員テーブル[[#This Row],[住所2]]=\"\",字名&会員テーブル[[#This Row],[住所1]]&会員テーブル[[#This Row],[住所3]],字名&会員テーブル[[#This Row],[住所1]]&\"-\"&会員テーブル[[#This Row],[住所2]]&会員テーブル[[#This Row],[住所3]]))","v":"山田村1022-4"},{"$f":"会員テーブル[[#This Row],[姓]]&\" \"&会員テーブル[[#This Row],[名]]","v":"水清 克彦"},{"$f":"IFERROR(IF((VLOOKUP(会員テーブル[[#This Row],[役職１]],役職テーブル[],3,FALSE)=\"出\"),1,0),0)","v":0},{"$f":"IFERROR(IF((VLOOKUP(会員テーブル[[#This Row],[役職2]],役職テーブル[],3,FALSE)=\"出\"),1,0),0)","v":0},{"$f":"IFERROR(IF((VLOOKUP(会員テーブル[[#This Row],[役職3]],役職テーブル[],3,FALSE)=\"出\"),1,0),0)","v":0},"鈴木市佐藤区","〒987-6543",{"$f":"会員テーブル[[#This Row],[役職１]]&\"  \"&会員テーブル[[#This Row],[役職2]]&\"  \"&会員テーブル[[#This Row],[役職3]]","v":"    "}]
[{"$f":"ROW()-ROW(会員テーブル[[#Headers],[会員SORT]])","v":28},{"$f":"IFERROR(VLOOKUP(C31,班名テーブル[],2,FALSE),\"\")","v":4},"[3-1]",null,null,"水清","早耶香","みずきよ",null,1,1022,4,null,"999-1122-5958","女","昭和61",3,{"$f":"IFERROR(VLOOKUP(P31,年号テーブル[],2,FALSE),\"\")","v":1986},37,null,null,"",null,null,"",null,null,null,null,null,null,null,null,null,null,null,"",{"$f":"IF(会員テーブル[[#This Row],[住所1]]=\"\",会員テーブル[[#This Row],[住所3]],IF(会員テーブル[[#This Row],[住所2]]=\"\",字名&会員テーブル[[#This Row],[住所1]]&会員テーブル[[#This Row],[住所3]],字名&会員テーブル[[#This Row],[住所1]]&\"-\"&会員テーブル[[#This Row],[住所2]]&会員テーブル[[#This Row],[住所3]]))","v":"山田村1022-4"},{"$f":"会員テーブル[[#This Row],[姓]]&\" \"&会員テーブル[[#This Row],[名]]","v":"水清 早耶香"},{"$f":"IFERROR(IF((VLOOKUP(会員テーブル[[#This Row],[役職１]],役職テーブル[],3,FALSE)=\"出\"),1,0),0)","v":0},{"$f":"IFERROR(IF((VLOOKUP(会員テーブル[[#This Row],[役職2]],役職テーブル[],3,FALSE)=\"出\"),1,0),0)","v":0},{"$f":"IFERROR(IF((VLOOKUP(会員テーブル[[#This Row],[役職3]],役職テーブル[],3,FALSE)=\"出\"),1,0),0)","v":0},"鈴木市佐藤区","〒987-6543",{"$f":"会員テーブル[[#This Row],[役職１]]&\"  \"&会員テーブル[[#This Row],[役職2]]&\"  \"&会員テーブル[[#This Row],[役職3]]","v":"    "}]
[{"$f":"ROW()-ROW(会員テーブル[[#Headers],[会員SORT]])","v":29},{"$f":"IFERROR(VLOOKUP(C32,班名テーブル[],2,FALSE),\"\")","v":5},"[3-2]",null,null,"澤伊","裕吉","さわい　ゆうきち","Y",1,1021,11,null,"999-685-1575","男","昭和29",4,{"$f":"IFERROR(VLOOKUP(P32,年号テーブル[],2,FALSE),\"\")","v":1954},68,null,null,"",null,null,"",null,null,null,null,null,null,null,null,null,null,null,"",{"$f":"IF(会員テーブル[[#This Row],[住所1]]=\"\",会員テーブル[[#This Row],[住所3]],IF(会員テーブル[[#This Row],[住所2]]=\"\",字名&会員テーブル[[#This Row],[住所1]]&会員テーブル[[#This Row],[住所3]],字名&会員テーブル[[#This Row],[住所1]]&\"-\"&会員テーブル[[#This Row],[住所2]]&会員テーブル[[#This Row],[住所3]]))","v":"山田村1021-11"},{"$f":"会員テーブル[[#This Row],[姓]]&\" \"&会員テーブル[[#This Row],[名]]","v":"澤伊 裕吉"},{"$f":"IFERROR(IF((VLOOKUP(会員テーブル[[#This Row],[役職１]],役職テーブル[],3,FALSE)=\"出\"),1,0),0)","v":0},{"$f":"IFERROR(IF((VLOOKUP(会員テーブル[[#This Row],[役職2]],役職テーブル[],3,FALSE)=\"出\"),1,0),0)","v":0},{"$f":"IFERROR(IF((VLOOKUP(会員テーブル[[#This Row],[役職3]],役職テーブル[],3,FALSE)=\"出\"),1,0),0)","v":0},"鈴木市佐藤区","〒987-6543",{"$f":"会員テーブル[[#This Row],[役職１]]&\"  \"&会員テーブル[[#This Row],[役職2]]&\"  \"&会員テーブル[[#This Row],[役職3]]","v":"    "}]
[{"$f":"ROW()-ROW(会員テーブル[[#Headers],[会員SORT]])","v":30},{"$f":"IFERROR(VLOOKUP(C33,班名テーブル[],2,FALSE),\"\")","v":5},"[3-2]",null,null,"澤伊","康江","さわい",null,2,1021,11,null,"999-685-1575","女","昭和33",5,{"$f":"IFERROR(VLOOKUP(P33,年号テーブル[],2,FALSE),\"\")","v":1958},64,null,null,"",null,null,"",null,null,null,null,null,null,null,null,null,null,null,"",{"$f":"IF(会員テーブル[[#This Row],[住所1]]=\"\",会員テーブル[[#This Row],[住所3]],IF(会員テーブル[[#This Row],[住所2]]=\"\",字名&会員テーブル[[#This Row],[住所1]]&会員テーブル[[#This Row],[住所3]],字名&会員テーブル[[#This Row],[住所1]]&\"-\"&会員テーブル[[#This Row],[住所2]]&会員テーブル[[#This Row],[住所3]]))","v":"山田村1021-11"},{"$f":"会員テーブル[[#This Row],[姓]]&\" \"&会員テーブル[[#This Row],[名]]","v":"澤伊 康江"},{"$f":"IFERROR(IF((VLOOKUP(会員テーブル[[#This Row],[役職１]],役職テーブル[],3,FALSE)=\"出\"),1,0),0)","v":0},{"$f":"IFERROR(IF((VLOOKUP(会員テーブル[[#This Row],[役職2]],役職テーブル[],3,FALSE)=\"出\"),1,0),0)","v":0},{"$f":"IFERROR(IF((VLOOKUP(会員テーブル[[#This Row],[役職3]],役職テーブル[],3,FALSE)=\"出\"),1,0),0)","v":0},"鈴木市佐藤区","〒987-6543",{"$f":"会員テーブル[[#This Row],[役職１]]&\"  \"&会員テーブル[[#This Row],[役職2]]&\"  \"&会員テーブル[[#This Row],[役職3]]","v":"    "}]
[{"$f":"ROW()-ROW(会員テーブル[[#Headers],[会員SORT]])","v":31},{"$f":"IFERROR(VLOOKUP(C34,班名テーブル[],2,FALSE),\"\")","v":7},"[4-2]",null,"死去","緯度","一郎","いど いちろう","Y",1,2222,22,null,"222-222-2222","男","昭和17",4,{"$f":"IFERROR(VLOOKUP(P34,年号テーブル[],2,FALSE),\"\")","v":1942},80,null,null,"","令和4",8,2022,null,null,null,null,null,null,null,null,null,null,null,"",{"$f":"IF(会員テーブル[[#This Row],[住所1]]=\"\",会員テーブル[[#This Row],[住所3]],IF(会員テーブル[[#This Row],[住所2]]=\"\",字名&会員テーブル[[#This Row],[住所1]]&会員テーブル[[#This Row],[住所3]],字名&会員テーブル[[#This Row],[住所1]]&\"-\"&会員テーブル[[#This Row],[住所2]]&会員テーブル[[#This Row],[住所3]]))","v":"山田村2222-22"},{"$f":"会員テーブル[[#This Row],[姓]]&\" \"&会員テーブル[[#This Row],[名]]","v":"緯度 一郎"},{"$f":"IFERROR(IF((VLOOKUP(会員テーブル[[#This Row],[役職１]],役職テーブル[],3,FALSE)=\"出\"),1,0),0)","v":0},{"$f":"IFERROR(IF((VLOOKUP(会員テーブル[[#This Row],[役職2]],役職テーブル[],3,FALSE)=\"出\"),1,0),0)","v":0},{"$f":"IFERROR(IF((VLOOKUP(会員テーブル[[#This Row],[役職3]],役職テーブル[],3,FALSE)=\"出\"),1,0),0)","v":0},"鈴木市佐藤区","〒987-6543",{"$f":"会員テーブル[[#This Row],[役職１]]&\"  \"&会員テーブル[[#This Row],[役職2]]&\"  \"&会員テーブル[[#This Row],[役職3]]","v":"    "}]
[{"$f":"ROW()-ROW(会員テーブル[[#Headers],[会員SORT]])","v":32},{"$f":"IFERROR(VLOOKUP(C35,班名テーブル[],2,FALSE),\"\")","v":7},"[4-2]",null,null,"緯度","花子","いど　はなこ","Y",1,2222,22,null,"222-222-2222","女","令和2",5,{"$f":"IFERROR(VLOOKUP(P35,年号テーブル[],2,FALSE),\"\")","v":2020},2,null,null,"",null,null,"",null,null,null,null,null,null,null,null,null,null,null,"",{"$f":"IF(会員テーブル[[#This Row],[住所1]]=\"\",会員テーブル[[#This Row],[住所3]],IF(会員テーブル[[#This Row],[住所2]]=\"\",字名&会員テーブル[[#This Row],[住所1]]&会員テーブル[[#This Row],[住所3]],字名&会員テーブル[[#This Row],[住所1]]&\"-\"&会員テーブル[[#This Row],[住所2]]&会員テーブル[[#This Row],[住所3]]))","v":"山田村2222-22"},{"$f":"会員テーブル[[#This Row],[姓]]&\" \"&会員テーブル[[#This Row],[名]]","v":"緯度 花子"},{"$f":"IFERROR(IF((VLOOKUP(会員テーブル[[#This Row],[役職１]],役職テーブル[],3,FALSE)=\"出\"),1,0),0)","v":0},{"$f":"IFERROR(IF((VLOOKUP(会員テーブル[[#This Row],[役職2]],役職テーブル[],3,FALSE)=\"出\"),1,0),0)","v":0},{"$f":"IFERROR(IF((VLOOKUP(会員テーブル[[#This Row],[役職3]],役職テーブル[],3,FALSE)=\"出\"),1,0),0)","v":0},"鈴木市佐藤区","〒987-6543",{"$f":"会員テーブル[[#This Row],[役職１]]&\"  \"&会員テーブル[[#This Row],[役職2]]&\"  \"&会員テーブル[[#This Row],[役職3]]","v":"    "}]
[{"$f":"ROW()-ROW(会員テーブル[[#Headers],[会員SORT]])","v":33},{"$f":"IFERROR(VLOOKUP(C36,班名テーブル[],2,FALSE),\"\")","v":""},null,null,null,null,null,null,null,null,null,null,null,null,null,null,null,{"$f":"IFERROR(VLOOKUP(P36,年号テーブル[],2,FALSE),\"\")","v":""},{"$f":"IFERROR(IF((nenreim-Q36)<0,(nenreiy-R36)-1,(nenreiy-R36)),\"\")","v":""},null,null,{"$f":"IFERROR(VLOOKUP(T36,nengou2,2,FALSE),\"\")","v":""},null,null,{"$f":"IFERROR(VLOOKUP(W36,nengou2,2,FALSE),\"\")","v":""},null,null,null,null,null,null,null,null,null,null,null,{"$f":"IF((AN36+AO36+AP36)>0,\"出\",\"\")","v":""},{"$f":"IF(会員テーブル[[#This Row],[住所1]]=\"\",会員テーブル[[#This Row],[住所3]],IF(会員テーブル[[#This Row],[住所2]]=\"\",字名&会員テーブル[[#This Row],[住所1]]&会員テーブル[[#This Row],[住所3]],字名&会員テーブル[[#This Row],[住所1]]&\"-\"&会員テーブル[[#This Row],[住所2]]&会員テーブル[[#This Row],[住所3]]))","v":0},{"$f":"会員テーブル[[#This Row],[姓]]&\" \"&会員テーブル[[#This Row],[名]]","v":" "},{"$f":"IFERROR(IF((VLOOKUP(会員テーブル[[#This Row],[役職１]],役職テーブル[],3,FALSE)=\"出\"),1,0),0)","v":0},{"$f":"IFERROR(IF((VLOOKUP(会員テーブル[[#This Row],[役職2]],役職テーブル[],3,FALSE)=\"出\"),1,0),0)","v":0},{"$f":"IFERROR(IF((VLOOKUP(会員テーブル[[#This Row],[役職3]],役職テーブル[],3,FALSE)=\"出\"),1,0),0)","v":0},{"$f":"市区名","v":"鈴木市佐藤区"},{"$f":"郵便初期値","v":"〒987-6543"},{"$f":"会員テーブル[[#This Row],[役職１]]&\"  \"&会員テーブル[[#This Row],[役職2]]&\"  \"&会員テーブル[[#This Row],[役職3]]","v":"    "}]
[{"$f":"ROW()-ROW(会員テーブル[[#Headers],[会員SORT]])","v":34},{"$f":"IFERROR(VLOOKUP(C37,班名テーブル[],2,FALSE),\"\")","v":""},null,null,null,null,null,null,null,null,null,null,null,null,null,null,null,{"$f":"IFERROR(VLOOKUP(P37,年号テーブル[],2,FALSE),\"\")","v":""},{"$f":"IFERROR(IF((nenreim-Q37)<0,(nenreiy-R37)-1,(nenreiy-R37)),\"\")","v":""},null,null,{"$f":"IFERROR(VLOOKUP(T37,nengou2,2,FALSE),\"\")","v":""},null,null,{"$f":"IFERROR(VLOOKUP(W37,nengou2,2,FALSE),\"\")","v":""},null,null,null,null,null,null,null,null,null,null,null,{"$f":"IF((AN37+AO37+AP37)>0,\"出\",\"\")","v":""},{"$f":"IF(会員テーブル[[#This Row],[住所1]]=\"\",会員テーブル[[#This Row],[住所3]],IF(会員テーブル[[#This Row],[住所2]]=\"\",字名&会員テーブル[[#This Row],[住所1]]&会員テーブル[[#This Row],[住所3]],字名&会員テーブル[[#This Row],[住所1]]&\"-\"&会員テーブル[[#This Row],[住所2]]&会員テーブル[[#This Row],[住所3]]))","v":0},{"$f":"会員テーブル[[#This Row],[姓]]&\" \"&会員テーブル[[#This Row],[名]]","v":" "},{"$f":"IFERROR(IF((VLOOKUP(会員テーブル[[#This Row],[役職１]],役職テーブル[],3,FALSE)=\"出\"),1,0),0)","v":0},{"$f":"IFERROR(IF((VLOOKUP(会員テーブル[[#This Row],[役職2]],役職テーブル[],3,FALSE)=\"出\"),1,0),0)","v":0},{"$f":"IFERROR(IF((VLOOKUP(会員テーブル[[#This Row],[役職3]],役職テーブル[],3,FALSE)=\"出\"),1,0),0)","v":0},{"$f":"市区名","v":"鈴木市佐藤区"},{"$f":"郵便初期値","v":"〒987-6543"},{"$f":"会員テーブル[[#This Row],[役職１]]&\"  \"&会員テーブル[[#This Row],[役職2]]&\"  \"&会員テーブル[[#This Row],[役職3]]","v":"    "}]

{"sheet":"総会書類作成","index":2,"n_rows":32,"n_cols":9,"rows_kept":32,"cut":false,"hidden":false,"merged":[]}
[null,1972]
[]
[null,null,null,null,null,null,null,28]
[null,"＜班＞","住　　所","世帯員No","世帯主Y","氏　　名","賛成空欄、\n反対はX",28,"←対象会員数"]
["退会理由","班","補助情報_連結住所","世帯員No","世帯主Y","補助情報_連結氏名","賛否"]
[null,"[1]","山田村107",1,"Y","井永 省三郎","(          )"]
[null,"[1]","山田村107",2,null,"井永 明枝","(          )"]
[null,"[1]","山田村1018",1,"Y","井永 幸次","(          )"]
[null,"[1]","山田村1020-2",1,"Y","子兼 隆保","(          )"]
[null,"[2-1]","山田村333-33",1,"Y","経度 次郎","(          )"]
[null,"[2-1]","山田村1018",1,"Y","井永 京子","(          )"]
[null,"[2-1]","山田村1018",2,null,"井永 和広","(          )"]
[null,"[2-1]","山田村1018",3,null,"井永 友子","(          )"]
[null,"[2-1]","山田村1021-7",1,"Y","島中 清剛","(          )"]
[null,"[2-1]","山田村1021-7",2,null,"島中 澄子","(          )"]
[null,"[2-1]","山田村1021-10",1,"Y","下山 忍","(          )"]
[null,"[2-1]","山田村1021-13",1,"Y","柳小 秋夫","(          )"]
[null,"[2-1]","山田村1021-13",2,null,"柳小 房枝","(          )"]
[null,"[2-2]","山田村1021-10",1,"Y","下山 恵利子","(          )"]
[null,"[2-2]","山田村1021-10",2,null,"下山 隼矢","(          )"]
[null,"[2-2]","山田村1021-10",3,null,"下山 祐依","(          )"]
[null,"[2-2]","山田村1021-10",4,null,"下山 ひで子","(          )"]
[null,"[2-2]","山田村1021-15",1,"Y","花月 かよ子","(          )"]
[null,"[2-2]","山田村1021-15",2,null,"花月 康祐","(          )"]
[null,"[2-2]","山田村1021-15",3,null,"花月 千安紀","(          )"]
[null,"[3-1]","山田村1019-2",1,"Y","本松 健","(          )"]
[null,"[3-1]","山田村1019-2",2,null,"本松 紗英子","(          )"]
[null,"[3-1]","山田村1021-16",1,"Y","野河 節男","(          )"]
[null,"[3-1]","山田村1022-4",1,null,"水清 早耶香","(          )"]
[null,"[3-2]","山田村1021-11",1,"Y","澤伊 裕吉","(          )"]
[null,"[3-2]","山田村1021-11",2,null,"澤伊 康江","(          )"]
[null,"[4-2]","山田村2222-22",1,"Y","緯度 花子","(          )"]

{"sheet":"総会文面","index":3,"n_rows":23,"n_cols":8,"rows_kept":23,"cut":false,"hidden":false,"merged":[]}
[null,"A自治会　通常総会　書面表決"]
[null,"＜第１号議案＞"]
[null,"令和x年度「A自治会三役」案"]
[null,"役職名","氏名","住所","班名","備考（兼）",null,"文を、左に書きます。"]
[null,"自治会長","鈴木　一郎","山田村11","1班(南)","認可地縁団体代表者",null,"A～G、１行目～36行目の範囲。"]
[null,null,null,null,null,"A地域福祉会長",null,"EXCELのカメラの機能を使って、「総会書類作成」シートの１～3行目へリンク貼り付けします。"]
[null,"副自治会長","鈴川 　花子","山田村333","2班(東）","公民館管理委員長"]
[null,"（会計）"]
[null,"副自治会長","鈴山　太助","山田村444","3班(西)","環境美化推進委員長"]
[null,"（書記）"]
[]
[]
[]
[]
[]
[]
[]
[null,"上記、第１号議案の賛否を提出します。"]
[]
[null,"代表者氏名　_________________   印　"]
[]
[]
[null,"（※増員の場合は氏名を追加記入、減員の場合は横線で取り消しください。）"]

{"sheet":"委員会書類","index":4,"n_rows":23,"n_cols":27,"rows_kept":23,"cut":false,"hidden":false,"merged":[[3,1,4,4]]}
[null,{"$f":"VLOOKUP(L1,委員会書類[],2,FALSE)","v":"〒987-6543鈴木市佐藤区"},null,null,null,null,null,null,null,null,"令和　年　　月　　日",3,"番号",null,null,null,null,null,null,"番号","郵市区名","補助情報_連結住所","氏名様","班","補助役職連記","委員会要出","退会理由"]
[null,{"$f":"VLOOKUP(L1,委員会書類[],3,FALSE)","v":"山田村1020-2"},null,null,null,null,null,null,null,null,null,null,null,null,null,null,null,null,null,1,"〒987-6543鈴木市佐藤区","山田村107","井永 明枝 様","[1]","自治会副会長(書記)    ","出"]
[null,{"$f":"VLOOKUP(L1,委員会書類[],4,FALSE)","v":"子兼 隆保 様"},null,null,{"$f":"VLOOKUP(L1,委員会書類[],5,FALSE)","v":"[1]"},null,null,null,null,null,null,null,null,null,null,null,null,null,null,2,"〒987-6543鈴木市佐藤区","山田村1018","井永 幸次 様","[1]","ブロック長    ","出"]
[null,{"$f":"VLOOKUP(L1,委員会書類[],6,FALSE)","v":"    ブロック長"},null,null,null,null,null,null,null,null,null,null,null,null,null,null,null,null,null,3,"〒987-6543鈴木市佐藤区","山田村1020-2","子兼 隆保 様","[1]","    ブロック長","出"]
[]
[]
[]
[]
[]
[]
[]
[]
[]
[]
[]
[]
[]
[]
[]
[null,null,null,null,null,null,null,null,null,null,null,"右の表から、PDFを作成したい開始番号と終了番号を入れてください。"]
[null,null,null,null,null,null,null,null,null,null,null,"（範囲外はエラーになります）。"]
[null,null,null,null,"この中に文章を書きます。",null,null,null,null,null,null,null,null,"開始番号","終了番号","最終番号は"]
[null,null,null,null,null,null,null,null,null,null,null,null,null,1,3,{"$f":"MAX(委員会書類[],1)","v":3}]

{"sheet":"任意作成","index":5,"n_rows":37,"n_cols":26,"rows_kept":37,"cut":false,"hidden":false,"merged":[[3,1,4,4],[36,13,36,14]]}
[null,{"$f":"VLOOKUP(L1,任意抽出[],2,FALSE)","v":"〒987-6543鈴木市佐藤区"},null,null,null,null,null,null,null,null,"令和　年　　月　　日",3,"番号",null,null,null,null,null,null,"番号","郵市区名","補助情報_連結住所","氏名様","班","補助役職連記","任意抽出Y"]
[null,{"$f":"VLOOKUP(L1,任意抽出[],3,FALSE)","v":"山田村1021-10"},null,null,null,null,null,null,null,null,null,null,null,null,null,null,null,null,null,1,"〒987-6543鈴木市佐藤区","山田村107","井永 明枝 様","[1]","自治会副会長(書記)    ","Y"]
[null,{"$f":"VLOOKUP(L1,任意抽出[],4,FALSE)","v":"下山 隼矢 様"},null,null,{"$f":"VLOOKUP(L1,任意抽出[],5,FALSE)","v":"[2-2]"},null,null,null,null,null,null,null,null,null,null,null,null,null,null,2,"〒987-6543鈴木市佐藤区","山田村1020-2","子兼 隆保 様","[1]","    ブロック長","Y"]
[null,{"$f":"VLOOKUP(L1,任意抽出[],6,FALSE)","v":"    "},null,null,null,null,null,null,null,null,null,"＜１＞","左に文書を作成してください。",null,null,null,null,null,null,3,"〒987-6543鈴木市佐藤区","山田村1021-10","下山 隼矢 様","[2-2]","    ","Y"]
[null,null,null,null,null,null,null,null,null,null,null,null,null,null,null,null,null,null,null,4,"〒987-6543鈴木市佐藤区","山田村1021-15","花月 かよ子 様","[2-2]","    ","Y"]
[]
[]
[]
[]
[null,null,null,null,null,null,null,null,null,null,null,"＜２＞","文書を送付したい人を会員シートから選択してください。"]
[null,null,null,null,null,null,null,null,null,null,null,null,"会員シートの任意抽出列にYを選んでください。"]
[]
[]
[]
[]
[]
[]
[null,null,null,null,null,null,null,null,null,null,null,"＜３＞","＜２＞を済ませたら、下をクリックしてください。"]
[]
[]
[]
[null,null,null,null,"この中に文章を書きます。"]
[]
[]
[]
[]
[]
[null,null,null,null,null,null,null,null,null,null,null,"＜４＞"]
[null,null,null,null,null,null,null,null,null,null,null,"右の表から、PDFを作成したい開始番号と終了番号を入れてください。"]
[null,null,null,null,null,null,null,null,null,null,null,"（範囲外はエラーになります）。"]
[null,null,null,null,null,null,null,null,null,null,null,null,null,"開始番号","終了番号","最終番号は"]
[null,null,null,null,null,null,null,null,null,null,null,null,null,1,3,{"$f":"MAX(任意抽出[],1)","v":4}]
[]
[null,null,null,null,null,null,null,null,null,null,null,"＜５＞","ファイル名を付けてください。"]
[]
[null,null,null,null,null,null,null,null,null,null,null,null,null,"ファイル名"]
[null,null,null,null,null,null,null,null,null,null,null,null,null,"テスト2"]

{"sheet":"班名","index":6,"n_rows":23,"n_cols":3,"rows_kept":23,"cut":false,"hidden":false,"merged":[]}
[null,null,"※班名SORTは変更後の状態で自動採番します。"]
["班名","班名SORT"]
["[1]",{"$f":"ROW()-ROW(班名!$B$2)","v":1}]
["[2-1]",{"$f":"ROW()-ROW(班名!$B$2)","v":2}]
["[2-2]",{"$f":"ROW()-ROW(班名!$B$2)","v":3}]
["[3-1]",{"$f":"ROW()-ROW(班名!$B$2)","v":4}]
["[3-2]",{"$f":"ROW()-ROW(班名!$B$2)","v":5}]
["[4-1]",{"$f":"ROW()-ROW(班名!$B$2)","v":6}]
["[4-2]",{"$f":"ROW()-ROW(班名!$B$2)","v":7}]
["[4-3]",{"$f":"ROW()-ROW(班名!$B$2)","v":8}]
["[5-1]",{"$f":"ROW()-ROW(班名!$B$2)","v":9}]
["[5-2]",{"$f":"ROW()-ROW(班名!$B$2)","v":10}]
["[6-1]",{"$f":"ROW()-ROW(班名!$B$2)","v":11}]
["[6-2]",{"$f":"ROW()-ROW(班名!$B$2)","v":12}]
["[7-1]",{"$f":"ROW()-ROW(班名!$B$2)","v":13}]
["[7-2]",{"$f":"ROW()-ROW(班名!$B$2)","v":14}]
["[7-3]",{"$f":"ROW()-ROW(班名!$B$2)","v":15}]
["[8-1]",{"$f":"ROW()-ROW(班名!$B$2)","v":16}]
["[8-2]",{"$f":"ROW()-ROW(班名!$B$2)","v":17}]
["[9]",{"$f":"ROW()-ROW(班名!$B$2)","v":18}]
["[10]",{"$f":"ROW()-ROW(班名!$B$2)","v":19}]
["[11]",{"$f":"ROW()-ROW(班名!$B$2)","v":20}]
["[12]",{"$f":"ROW()-ROW(班名!$B$2)","v":21}]

{"sheet":"年号","index":7,"n_rows":121,"n_cols":4,"rows_kept":121,"cut":false,"hidden":false,"merged":[]}
[null,null,null,"※年号SORTは変更後の状態で自動採番します。"]
["和暦","西暦","年号SORT"]
["令和5",2023,{"$f":"ROW()-ROW(年号テーブル[[#Headers],[年号SORT]])","v":1}]
["令和4",2022,{"$f":"ROW()-ROW(年号テーブル[[#Headers],[年号SORT]])","v":2}]
["令和5",2023,{"$f":"ROW()-ROW(年号テーブル[[#Headers],[年号SORT]])","v":3}]
["令和4",2022,{"$f":"ROW()-ROW(年号テーブル[[#Headers],[年号SORT]])","v":4}]
["令和3",2021,{"$f":"ROW()-ROW(年号テーブル[[#Headers],[年号SORT]])","v":5}]
["令和2",2020,{"$f":"ROW()-ROW(年号テーブル[[#Headers],[年号SORT]])","v":6}]
["令和1",2019,{"$f":"ROW()-ROW(年号テーブル[[#Headers],[年号SORT]])","v":7}]
["平成31",2019,{"$f":"ROW()-ROW(年号テーブル[[#Headers],[年号SORT]])","v":8}]
["平成30",2018,{"$f":"ROW()-ROW(年号テーブル[[#Headers],[年号SORT]])","v":9}]
["平成29",2017,{"$f":"ROW()-ROW(年号テーブル[[#Headers],[年号SORT]])","v":10}]
["平成28",2016,{"$f":"ROW()-ROW(年号テーブル[[#Headers],[年号SORT]])","v":11}]
["平成27",2015,{"$f":"ROW()-ROW(年号テーブル[[#Headers],[年号SORT]])","v":12}]
["平成26",2014,{"$f":"ROW()-ROW(年号テーブル[[#Headers],[年号SORT]])","v":13}]
["平成25",2013,{"$f":"ROW()-ROW(年号テーブル[[#Headers],[年号SORT]])","v":14}]
["平成24",2012,{"$f":"ROW()-ROW(年号テーブル[[#Headers],[年号SORT]])","v":15}]
["平成23",2011,{"$f":"ROW()-ROW(年号テーブル[[#Headers],[年号SORT]])","v":16}]
["平成22",2010,{"$f":"ROW()-ROW(年号テーブル[[#Headers],[年号SORT]])","v":17}]
["平成21",2009,{"$f":"ROW()-ROW(年号テーブル[[#Headers],[年号SORT]])","v":18}]
["平成20",2008,{"$f":"ROW()-ROW(年号テーブル[[#Headers],[年号SORT]])","v":19}]
["平成19",2007,{"$f":"ROW()-ROW(年号テーブル[[#Headers],[年号SORT]])","v":20}]
["平成18",2006,{"$f":"ROW()-ROW(年号テーブル[[#Headers],[年号SORT]])","v":21}]
["平成17",2005,{"$f":"ROW()-ROW(年号テーブル[[#Headers],[年号SORT]])","v":22}]
["平成16",2004,{"$f":"ROW()-ROW(年号テーブル[[#Headers],[年号SORT]])","v":23}]
["平成15",2003,{"$f":"ROW()-ROW(年号テーブル[[#Headers],[年号SORT]])","v":24}]
["平成14",2002,{"$f":"ROW()-ROW(年号テーブル[[#Headers],[年号SORT]])","v":25}]
["平成13",2001,{"$f":"ROW()-ROW(年号テーブル[[#Headers],[年号SORT]])","v":26}]
["平成12",2000,{"$f":"ROW()-ROW(年号テーブル[[#Headers],[年号SORT]])","v":27}]
["平成11",1999,{"$f":"ROW()-ROW(年号テーブル[[#Headers],[年号SORT]])","v":28}]
["平成10",1998,{"$f":"ROW()-ROW(年号テーブル[[#Headers],[年号SORT]])","v":29}]
["平成9",1997,{"$f":"ROW()-ROW(年号テーブル[[#Headers],[年号SORT]])","v":30}]
["平成8",1996,{"$f":"ROW()-ROW(年号テーブル[[#Headers],[年号SORT]])","v":31}]
["平成7",1995,{"$f":"ROW()-ROW(年号テーブル[[#Headers],[年号SORT]])","v":32}]
["平成6",1994,{"$f":"ROW()-ROW(年号テーブル[[#Headers],[年号SORT]])","v":33}]
["平成5",1993,{"$f":"ROW()-ROW(年号テーブル[[#Headers],[年号SORT]])","v":34}]
["平成4",1992,{"$f":"ROW()-ROW(年号テーブル[[#Headers],[年号SORT]])","v":35}]
["平成3",1991,{"$f":"ROW()-ROW(年号テーブル[[#Headers],[年号SORT]])","v":36}]
["平成2",1990,{"$f":"ROW()-ROW(年号テーブル[[#Headers],[年号SORT]])","v":37}]
["平成1",1989,{"$f":"ROW()-ROW(年号テーブル[[#Headers],[年号SORT]])","v":38}]
["昭和64",1989,{"$f":"ROW()-ROW(年号テーブル[[#Headers],[年号SORT]])","v":39}]
["昭和63",1988,{"$f":"ROW()-ROW(年号テーブル[[#Headers],[年号SORT]])","v":40}]
["昭和62",1987,{"$f":"ROW()-ROW(年号テーブル[[#Headers],[年号SORT]])","v":41}]
["昭和61",1986,{"$f":"ROW()-ROW(年号テーブル[[#Headers],[年号SORT]])","v":42}]
["昭和60",1985,{"$f":"ROW()-ROW(年号テーブル[[#Headers],[年号SORT]])","v":43}]
["昭和59",1984,{"$f":"ROW()-ROW(年号テーブル[[#Headers],[年号SORT]])","v":44}]
["昭和58",1983,{"$f":"ROW()-ROW(年号テーブル[[#Headers],[年号SORT]])","v":45}]
["昭和57",1982,{"$f":"ROW()-ROW(年号テーブル[[#Headers],[年号SORT]])","v":46}]
["昭和56",1981,{"$f":"ROW()-ROW(年号テーブル[[#Headers],[年号SORT]])","v":47}]
["昭和55",1980,{"$f":"ROW()-ROW(年号テーブル[[#Headers],[年号SORT]])","v":48}]
["昭和54",1979,{"$f":"ROW()-ROW(年号テーブル[[#Headers],[年号SORT]])","v":49}]
["昭和53",1978,{"$f":"ROW()-ROW(年号テーブル[[#Headers],[年号SORT]])","v":50}]
["昭和52",1977,{"$f":"ROW()-ROW(年号テーブル[[#Headers],[年号SORT]])","v":51}]
["昭和51",1976,{"$f":"ROW()-ROW(年号テーブル[[#Headers],[年号SORT]])","v":52}]
["昭和50",1975,{"$f":"ROW()-ROW(年号テーブル[[#Headers],[年号SORT]])","v":53}]
["昭和49",1974,{"$f":"ROW()-ROW(年号テーブル[[#Headers],[年号SORT]])","v":54}]
["昭和48",1973,{"$f":"ROW()-ROW(年号テーブル[[#Headers],[年号SORT]])","v":55}]
["昭和47",1972,{"$f":"ROW()-ROW(年号テーブル[[#Headers],[年号SORT]])","v":56}]
["昭和46",1971,{"$f":"ROW()-ROW(年号テーブル[[#Headers],[年号SORT]])","v":57}]
["昭和45",1970,{"$f":"ROW()-ROW(年号テーブル[[#Headers],[年号SORT]])","v":58}]
["昭和44",1969,{"$f":"ROW()-ROW(年号テーブル[[#Headers],[年号SORT]])","v":59}]
["昭和43",1968,{"$f":"ROW()-ROW(年号テーブル[[#Headers],[年号SORT]])","v":60}]
["昭和42",1967,{"$f":"ROW()-ROW(年号テーブル[[#Headers],[年号SORT]])","v":61}]
["昭和41",1966,{"$f":"ROW()-ROW(年号テーブル[[#Headers],[年号SORT]])","v":62}]
["昭和40",1965,{"$f":"ROW()-ROW(年号テーブル[[#Headers],[年号SORT]])","v":63}]
["昭和39",1964,{"$f":"ROW()-ROW(年号テーブル[[#Headers],[年号SORT]])","v":64}]
["昭和38",1963,{"$f":"ROW()-ROW(年号テーブル[[#Headers],[年号SORT]])","v":65}]
["昭和37",1962,{"$f":"ROW()-ROW(年号テーブル[[#Headers],[年号SORT]])","v":66}]
["昭和36",1961,{"$f":"ROW()-ROW(年号テーブル[[#Headers],[年号SORT]])","v":67}]
["昭和35",1960,{"$f":"ROW()-ROW(年号テーブル[[#Headers],[年号SORT]])","v":68}]
["昭和34",1959,{"$f":"ROW()-ROW(年号テーブル[[#Headers],[年号SORT]])","v":69}]
["昭和33",1958,{"$f":"ROW()-ROW(年号テーブル[[#Headers],[年号SORT]])","v":70}]
["昭和32",1957,{"$f":"ROW()-ROW(年号テーブル[[#Headers],[年号SORT]])","v":71}]
["昭和31",1956,{"$f":"ROW()-ROW(年号テーブル[[#Headers],[年号SORT]])","v":72}]
["昭和30",1955,{"$f":"ROW()-ROW(年号テーブル[[#Headers],[年号SORT]])","v":73}]
["昭和29",1954,{"$f":"ROW()-ROW(年号テーブル[[#Headers],[年号SORT]])","v":74}]
["昭和28",1953,{"$f":"ROW()-ROW(年号テーブル[[#Headers],[年号SORT]])","v":75}]
["昭和27",1952,{"$f":"ROW()-ROW(年号テーブル[[#Headers],[年号SORT]])","v":76}]
["昭和26",1951,{"$f":"ROW()-ROW(年号テーブル[[#Headers],[年号SORT]])","v":77}]
["昭和25",1950,{"$f":"ROW()-ROW(年号テーブル[[#Headers],[年号SORT]])","v":78}]
["昭和24",1949,{"$f":"ROW()-ROW(年号テーブル[[#Headers],[年号SORT]])","v":79}]
["昭和23",1948,{"$f":"ROW()-ROW(年号テーブル[[#Headers],[年号SORT]])","v":80}]
["昭和22",1947,{"$f":"ROW()-ROW(年号テーブル[[#Headers],[年号SORT]])","v":81}]
["昭和21",1946,{"$f":"ROW()-ROW(年号テーブル[[#Headers],[年号SORT]])","v":82}]
["昭和20",1945,{"$f":"ROW()-ROW(年号テーブル[[#Headers],[年号SORT]])","v":83}]
["昭和19",1944,{"$f":"ROW()-ROW(年号テーブル[[#Headers],[年号SORT]])","v":84}]
["昭和18",1943,{"$f":"ROW()-ROW(年号テーブル[[#Headers],[年号SORT]])","v":85}]
["昭和17",1942,{"$f":"ROW()-ROW(年号テーブル[[#Headers],[年号SORT]])","v":86}]
["昭和16",1941,{"$f":"ROW()-ROW(年号テーブル[[#Headers],[年号SORT]])","v":87}]
["昭和15",1940,{"$f":"ROW()-ROW(年号テーブル[[#Headers],[年号SORT]])","v":88}]
["昭和14",1939,{"$f":"ROW()-ROW(年号テーブル[[#Headers],[年号SORT]])","v":89}]
["昭和13",1938,{"$f":"ROW()-ROW(年号テーブル[[#Headers],[年号SORT]])","v":90}]
["昭和12",1937,{"$f":"ROW()-ROW(年号テーブル[[#Headers],[年号SORT]])","v":91}]
["昭和11",1936,{"$f":"ROW()-ROW(年号テーブル[[#Headers],[年号SORT]])","v":92}]
["昭和10",1935,{"$f":"ROW()-ROW(年号テーブル[[#Headers],[年号SORT]])","v":93}]
["昭和9",1934,{"$f":"ROW()-ROW(年号テーブル[[#Headers],[年号SORT]])","v":94}]
["昭和8",1933,{"$f":"ROW()-ROW(年号テーブル[[#Headers],[年号SORT]])","v":95}]
["昭和7",1932,{"$f":"ROW()-ROW(年号テーブル[[#Headers],[年号SORT]])","v":96}]
["昭和6",1931,{"$f":"ROW()-ROW(年号テーブル[[#Headers],[年号SORT]])","v":97}]
["昭和5",1930,{"$f":"ROW()-ROW(年号テーブル[[#Headers],[年号SORT]])","v":98}]
["昭和4",1929,{"$f":"ROW()-ROW(年号テーブル[[#Headers],[年号SORT]])","v":99}]
["昭和3",1928,{"$f":"ROW()-ROW(年号テーブル[[#Headers],[年号SORT]])","v":100}]
["昭和2",1927,{"$f":"ROW()-ROW(年号テーブル[[#Headers],[年号SORT]])","v":101}]
["昭和1",1926,{"$f":"ROW()-ROW(年号テーブル[[#Headers],[年号SORT]])","v":102}]
["大正15",1926,{"$f":"ROW()-ROW(年号テーブル[[#Headers],[年号SORT]])","v":103}]
["大正14",1925,{"$f":"ROW()-ROW(年号テーブル[[#Headers],[年号SORT]])","v":104}]
["大正13",1924,{"$f":"ROW()-ROW(年号テーブル[[#Headers],[年号SORT]])","v":105}]
["大正12",1923,{"$f":"ROW()-ROW(年号テーブル[[#Headers],[年号SORT]])","v":106}]
["大正11",1922,{"$f":"ROW()-ROW(年号テーブル[[#Headers],[年号SORT]])","v":107}]
["大正10",1921,{"$f":"ROW()-ROW(年号テーブル[[#Headers],[年号SORT]])","v":108}]
["大正9",1920,{"$f":"ROW()-ROW(年号テーブル[[#Headers],[年号SORT]])","v":109}]
["大正8",1919,{"$f":"ROW()-ROW(年号テーブル[[#Headers],[年号SORT]])","v":110}]
["大正7",1918,{"$f":"ROW()-ROW(年号テーブル[[#Headers],[年号SORT]])","v":111}]
["大正6",1917,{"$f":"ROW()-ROW(年号テーブル[[#Headers],[年号SORT]])","v":112}]
["大正5",1916,{"$f":"ROW()-ROW(年号テーブル[[#Headers],[年号SORT]])","v":113}]
["大正4",1915,{"$f":"ROW()-ROW(年号テーブル[[#Headers],[年号SORT]])","v":114}]
["大正3",1914,{"$f":"ROW()-ROW(年号テーブル[[#Headers],[年号SORT]])","v":115}]
["大正2",1913,{"$f":"ROW()-ROW(年号テーブル[[#Headers],[年号SORT]])","v":116}]
["大正1",1912,{"$f":"ROW()-ROW(年号テーブル[[#Headers],[年号SORT]])","v":117}]
["明治45",1912,{"$f":"ROW()-ROW(年号テーブル[[#Headers],[年号SORT]])","v":118}]
["大化1",645,{"$f":"ROW()-ROW(年号テーブル[[#Headers],[年号SORT]])","v":119}]

{"sheet":"役職","index":8,"n_rows":49,"n_cols":7,"rows_kept":49,"cut":false,"hidden":false,"merged":[]}
[null,null,null,null,null,null,"※役職SORTは変更後の状態で自動採番します。"]
["役職名","任期","委員会","委嘱業務","備考","役職SORT"]
["自治会長","1年","出",null,null,{"$f":"ROW()-ROW(役職テーブル[[#Headers],[役職SORT]])","v":1}]
["自治会副会長(会計)","1年","出",null,null,{"$f":"ROW()-ROW(役職テーブル[[#Headers],[役職SORT]])","v":2}]
["自治会副会長(書記)","1年","出",null,null,{"$f":"ROW()-ROW(役職テーブル[[#Headers],[役職SORT]])","v":3}]
["班長","1年",null,null,null,{"$f":"ROW()-ROW(役職テーブル[[#Headers],[役職SORT]])","v":4}]
["ブロック長","1年","出",null,null,{"$f":"ROW()-ROW(役職テーブル[[#Headers],[役職SORT]])","v":5}]
["諮問委員(自治会長OB)","5年","出",null,null,{"$f":"ROW()-ROW(役職テーブル[[#Headers],[役職SORT]])","v":6}]
["諮問委員(地域)","2年","出",null,null,{"$f":"ROW()-ROW(役職テーブル[[#Headers],[役職SORT]])","v":7}]
["代議委員","2年",null,null,null,{"$f":"ROW()-ROW(役職テーブル[[#Headers],[役職SORT]])","v":8}]
["敬老会会長","2年",null,null,null,{"$f":"ROW()-ROW(役職テーブル[[#Headers],[役職SORT]])","v":9}]
["敬老会副会長(会計)","2年",null,null,null,{"$f":"ROW()-ROW(役職テーブル[[#Headers],[役職SORT]])","v":10}]
["敬老会副会長(書記)","2年",null,null,null,{"$f":"ROW()-ROW(役職テーブル[[#Headers],[役職SORT]])","v":11}]
["育成会会長",null,null,null,null,{"$f":"ROW()-ROW(役職テーブル[[#Headers],[役職SORT]])","v":12}]
["育成会副会長",null,null,null,null,{"$f":"ROW()-ROW(役職テーブル[[#Headers],[役職SORT]])","v":13}]
["育成会実行委員長","1年",null,null,null,{"$f":"ROW()-ROW(役職テーブル[[#Headers],[役職SORT]])","v":14}]
["育成会副実行委員長(会計)","1年",null,null,null,{"$f":"ROW()-ROW(役職テーブル[[#Headers],[役職SORT]])","v":15}]
["育成会副実行委員長(書記)","1年",null,null,null,{"$f":"ROW()-ROW(役職テーブル[[#Headers],[役職SORT]])","v":16}]
["女性部会長","1年",null,null,null,{"$f":"ROW()-ROW(役職テーブル[[#Headers],[役職SORT]])","v":17}]
["女性部会計","1年",null,null,null,{"$f":"ROW()-ROW(役職テーブル[[#Headers],[役職SORT]])","v":18}]
["女性部書記","1年",null,null,null,{"$f":"ROW()-ROW(役職テーブル[[#Headers],[役職SORT]])","v":19}]
["子供会会長",null,null,null,null,{"$f":"ROW()-ROW(役職テーブル[[#Headers],[役職SORT]])","v":20}]
["子供会副会長",null,null,null,null,{"$f":"ROW()-ROW(役職テーブル[[#Headers],[役職SORT]])","v":21}]
["子供会会計",null,null,null,null,{"$f":"ROW()-ROW(役職テーブル[[#Headers],[役職SORT]])","v":22}]
["青年団会長",null,null,null,null,{"$f":"ROW()-ROW(役職テーブル[[#Headers],[役職SORT]])","v":23}]
["青年団副会長",null,null,null,null,{"$f":"ROW()-ROW(役職テーブル[[#Headers],[役職SORT]])","v":24}]
["青年団会計",null,null,null,null,{"$f":"ROW()-ROW(役職テーブル[[#Headers],[役職SORT]])","v":25}]
["選挙管理委員会委員長","1年",null,"自治会委嘱",null,{"$f":"ROW()-ROW(役職テーブル[[#Headers],[役職SORT]])","v":26}]
["民生委員","3年",null,"市任命",null,{"$f":"ROW()-ROW(役職テーブル[[#Headers],[役職SORT]])","v":27}]
["地域安全推進委員",null,null,"警察委嘱",null,{"$f":"ROW()-ROW(役職テーブル[[#Headers],[役職SORT]])","v":28}]
["交通指導員",null,null,"市委託",null,{"$f":"ROW()-ROW(役職テーブル[[#Headers],[役職SORT]])","v":29}]
["環境美化推進委員長","1年",null,"市委託",null,{"$f":"ROW()-ROW(役職テーブル[[#Headers],[役職SORT]])","v":30}]
["環境美化推進委員","1年",null,"市委託",null,{"$f":"ROW()-ROW(役職テーブル[[#Headers],[役職SORT]])","v":31}]
["暴力追放推進委員","3年",null,"市長委嘱",null,{"$f":"ROW()-ROW(役職テーブル[[#Headers],[役職SORT]])","v":32}]
["自主防災隊長","1年",null,"市長委嘱",null,{"$f":"ROW()-ROW(役職テーブル[[#Headers],[役職SORT]])","v":33}]
["防災委員","3年",null,"市長委嘱",null,{"$f":"ROW()-ROW(役職テーブル[[#Headers],[役職SORT]])","v":34}]
["会計監査役","1年",null,"自治会委嘱",null,{"$f":"ROW()-ROW(役職テーブル[[#Headers],[役職SORT]])","v":35}]
["公民館管理委員長","1年",null,"自治会委嘱",null,{"$f":"ROW()-ROW(役職テーブル[[#Headers],[役職SORT]])","v":36}]
["公民館管理委員","1年",null,"自治会委嘱",null,{"$f":"ROW()-ROW(役職テーブル[[#Headers],[役職SORT]])","v":37}]
["防火管理者",null,null,"自治会委嘱",null,{"$f":"ROW()-ROW(役職テーブル[[#Headers],[役職SORT]])","v":38}]
["防災副隊長",null,null,"自治会委嘱",null,{"$f":"ROW()-ROW(役職テーブル[[#Headers],[役職SORT]])","v":39}]
["防災隊消火班","2年",null,null,null,{"$f":"ROW()-ROW(役職テーブル[[#Headers],[役職SORT]])","v":40}]
["防災隊救出救助班","2年",null,null,null,{"$f":"ROW()-ROW(役職テーブル[[#Headers],[役職SORT]])","v":41}]
["防災隊情報班","2年",null,null,null,{"$f":"ROW()-ROW(役職テーブル[[#Headers],[役職SORT]])","v":42}]
["防災隊避難誘導班","2年",null,null,null,{"$f":"ROW()-ROW(役職テーブル[[#Headers],[役職SORT]])","v":43}]
["防災隊生活班","2年",null,null,null,{"$f":"ROW()-ROW(役職テーブル[[#Headers],[役職SORT]])","v":44}]
["防災隊衛生救護班","2年",null,null,null,{"$f":"ROW()-ROW(役職テーブル[[#Headers],[役職SORT]])","v":45}]
["防災隊災害時要援護者班","2年",null,null,null,{"$f":"ROW()-ROW(役職テーブル[[#Headers],[役職SORT]])","v":46}]
["認可地縁団体代表者","1年",null,null,"地方自治法",{"$f":"ROW()-ROW(役職テーブル[[#Headers],[役職SORT]])","v":47}]